BEGIN:VCALENDAR
VERSION:2.0
PRODID:-//Maryland Bluegrass - ECPv6.15.20//NONSGML v1.0//EN
CALSCALE:GREGORIAN
METHOD:PUBLISH
X-ORIGINAL-URL:https://marylandbluegrass.com
X-WR-CALDESC:Events for Maryland Bluegrass
REFRESH-INTERVAL;VALUE=DURATION:PT1H
X-Robots-Tag:noindex
X-PUBLISHED-TTL:PT1H
BEGIN:VTIMEZONE
TZID:America/New_York
BEGIN:DAYLIGHT
TZOFFSETFROM:-0500
TZOFFSETTO:-0400
TZNAME:EDT
DTSTART:20250309T070000
END:DAYLIGHT
BEGIN:STANDARD
TZOFFSETFROM:-0400
TZOFFSETTO:-0500
TZNAME:EST
DTSTART:20251102T060000
END:STANDARD
BEGIN:DAYLIGHT
TZOFFSETFROM:-0500
TZOFFSETTO:-0400
TZNAME:EDT
DTSTART:20260308T070000
END:DAYLIGHT
BEGIN:STANDARD
TZOFFSETFROM:-0400
TZOFFSETTO:-0500
TZNAME:EST
DTSTART:20261101T060000
END:STANDARD
BEGIN:DAYLIGHT
TZOFFSETFROM:-0500
TZOFFSETTO:-0400
TZNAME:EDT
DTSTART:20270314T070000
END:DAYLIGHT
BEGIN:STANDARD
TZOFFSETFROM:-0400
TZOFFSETTO:-0500
TZNAME:EST
DTSTART:20271107T060000
END:STANDARD
END:VTIMEZONE
BEGIN:VEVENT
DTSTART;TZID=America/New_York:20260224T180000
DTEND;TZID=America/New_York:20260224T200000
DTSTAMP:20260420T060110
CREATED:20250228T142850Z
LAST-MODIFIED:20250326T141212Z
UID:10002096-1771956000-1771963200@marylandbluegrass.com
SUMMARY:Bluegrass Tuesdays with the Clendenen Brothers - Hagerstown
DESCRIPTION:https://www.facebook.com/events/996398859205771/1004885515023772
URL:https://marylandbluegrass.com/event/bluegrass-tuesdays-with-the-clendenen-brothers-hagerstown/2026-02-24/
LOCATION:Thick N Thin Brewing Co.\, 18330 Spark Drive\, Hagerstown\, MD\, 21740\, United States
GEO:39.6018196;-77.7338475
X-APPLE-STRUCTURED-LOCATION;VALUE=URI;X-ADDRESS=Thick N Thin Brewing Co. 18330 Spark Drive Hagerstown MD 21740 United States;X-APPLE-RADIUS=500;X-TITLE=18330 Spark Drive:geo:-77.7338475,39.6018196
END:VEVENT
BEGIN:VEVENT
DTSTART;TZID=America/New_York:20260224T180000
DTEND;TZID=America/New_York:20260224T210000
DTSTAMP:20260420T060110
CREATED:20250219T163242Z
LAST-MODIFIED:20250424T141243Z
UID:10002444-1771956000-1771966800@marylandbluegrass.com
SUMMARY:Bluegrass Jam at Pherm Brewing Company
DESCRIPTION:Russ and AJ are back to host the monthly bluegrass jam. Normally on the last Tuesday of the month. \nBring an instrument out and jam or just come out to listen!
URL:https://marylandbluegrass.com/event/bluegrass-jam-at-pherm-brewing-company/2026-02-24/
LOCATION:Pherm Brewing Company\, 1041 MD-3\, Gambrills\, MD\, 21054\, United States
CATEGORIES:Bluegrass Jams
GEO:39.0276085;-76.6855756
X-APPLE-STRUCTURED-LOCATION;VALUE=URI;X-ADDRESS=Pherm Brewing Company 1041 MD-3 Gambrills MD 21054 United States;X-APPLE-RADIUS=500;X-TITLE=1041 MD-3:geo:-76.6855756,39.0276085
END:VEVENT
BEGIN:VEVENT
DTSTART;TZID=America/New_York:20260224T190000
DTEND;TZID=America/New_York:20260224T220000
DTSTAMP:20260420T060110
CREATED:20250706T144806Z
LAST-MODIFIED:20250827T144210Z
UID:10000142-1771959600-1771970400@marylandbluegrass.com
SUMMARY:Bluegrass Jam - HaleThorpe
DESCRIPTION:This jam is on the 2nd and 4th Tuesday of each month. \nAll Bluegrass Instruments are welcome. \nAll skill levels are welcome.
URL:https://marylandbluegrass.com/event/bluegrass-jam-halethorpe-2-2/2026-02-24/
LOCATION:American Legion – Dewey Lowman Post 109\, 1610 Old Sulphur Spring Road\, Halethorpe\, MD\, 21227\, United States
CATEGORIES:Bluegrass Jams
GEO:39.2520848;-76.6848051
X-APPLE-STRUCTURED-LOCATION;VALUE=URI;X-ADDRESS=American Legion – Dewey Lowman Post 109 1610 Old Sulphur Spring Road Halethorpe MD 21227 United States;X-APPLE-RADIUS=500;X-TITLE=1610 Old Sulphur Spring Road:geo:-76.6848051,39.2520848
END:VEVENT
END:VCALENDAR