BEGIN:VCALENDAR
VERSION:2.0
PRODID:-//Maryland Bluegrass - ECPv6.15.20//NONSGML v1.0//EN
CALSCALE:GREGORIAN
METHOD:PUBLISH
X-ORIGINAL-URL:https://marylandbluegrass.com
X-WR-CALDESC:Events for Maryland Bluegrass
REFRESH-INTERVAL;VALUE=DURATION:PT1H
X-Robots-Tag:noindex
X-PUBLISHED-TTL:PT1H
BEGIN:VTIMEZONE
TZID:America/New_York
BEGIN:DAYLIGHT
TZOFFSETFROM:-0500
TZOFFSETTO:-0400
TZNAME:EDT
DTSTART:20250309T070000
END:DAYLIGHT
BEGIN:STANDARD
TZOFFSETFROM:-0400
TZOFFSETTO:-0500
TZNAME:EST
DTSTART:20251102T060000
END:STANDARD
BEGIN:DAYLIGHT
TZOFFSETFROM:-0500
TZOFFSETTO:-0400
TZNAME:EDT
DTSTART:20260308T070000
END:DAYLIGHT
BEGIN:STANDARD
TZOFFSETFROM:-0400
TZOFFSETTO:-0500
TZNAME:EST
DTSTART:20261101T060000
END:STANDARD
BEGIN:DAYLIGHT
TZOFFSETFROM:-0500
TZOFFSETTO:-0400
TZNAME:EDT
DTSTART:20270314T070000
END:DAYLIGHT
BEGIN:STANDARD
TZOFFSETFROM:-0400
TZOFFSETTO:-0500
TZNAME:EST
DTSTART:20271107T060000
END:STANDARD
END:VTIMEZONE
BEGIN:VEVENT
DTSTART;TZID=America/New_York:20260228T130000
DTEND;TZID=America/New_York:20260228T150000
DTSTAMP:20260424T040215
CREATED:20260124T163503Z
LAST-MODIFIED:20260124T163503Z
UID:10002970-1772283600-1772290800@marylandbluegrass.com
SUMMARY:Get into a jam with the Black-Eyed Suzies - Annapolis
DESCRIPTION:All Ages! Ready to take your playing out of the practice room and into the jam? Sarah Larsen and Nicole Snider from the Black-Eyed Suzies will show you how to jump in with confidence\, contribute to the sound\, and connect with fellow musicians. Learn the skills\, etiquette\, and musical mindset that turn any circle into a celebration. One year minimum experience on your instrument; Please bring your instrument to both sessions. \nSession is for two dates\, February 21st and February 28th\, 1:00-3:00pm\n$52 registration fee (includes both sessions)\nFor registration questions\, contact lzetterlucas@marylandhall.org
URL:https://marylandbluegrass.com/event/get-into-a-jam-with-the-black-eyed-suzies-annapolis/2026-02-28/
LOCATION:Maryland Hall\, 801 Chase Street\, Annapolis\, MD\, 21401\, United States
END:VEVENT
END:VCALENDAR