BEGIN:VCALENDAR
VERSION:2.0
PRODID:-//Maryland Bluegrass - ECPv6.15.20//NONSGML v1.0//EN
CALSCALE:GREGORIAN
METHOD:PUBLISH
X-ORIGINAL-URL:https://marylandbluegrass.com
X-WR-CALDESC:Events for Maryland Bluegrass
REFRESH-INTERVAL;VALUE=DURATION:PT1H
X-Robots-Tag:noindex
X-PUBLISHED-TTL:PT1H
BEGIN:VTIMEZONE
TZID:America/New_York
BEGIN:DAYLIGHT
TZOFFSETFROM:-0500
TZOFFSETTO:-0400
TZNAME:EDT
DTSTART:20250309T070000
END:DAYLIGHT
BEGIN:STANDARD
TZOFFSETFROM:-0400
TZOFFSETTO:-0500
TZNAME:EST
DTSTART:20251102T060000
END:STANDARD
BEGIN:DAYLIGHT
TZOFFSETFROM:-0500
TZOFFSETTO:-0400
TZNAME:EDT
DTSTART:20260308T070000
END:DAYLIGHT
BEGIN:STANDARD
TZOFFSETFROM:-0400
TZOFFSETTO:-0500
TZNAME:EST
DTSTART:20261101T060000
END:STANDARD
BEGIN:DAYLIGHT
TZOFFSETFROM:-0500
TZOFFSETTO:-0400
TZNAME:EDT
DTSTART:20270314T070000
END:DAYLIGHT
BEGIN:STANDARD
TZOFFSETFROM:-0400
TZOFFSETTO:-0500
TZNAME:EST
DTSTART:20271107T060000
END:STANDARD
END:VTIMEZONE
BEGIN:VEVENT
DTSTART;TZID=America/New_York:20260414T180000
DTEND;TZID=America/New_York:20260414T200000
DTSTAMP:20260422T042559
CREATED:20250228T142850Z
LAST-MODIFIED:20250326T141212Z
UID:10002103-1776189600-1776196800@marylandbluegrass.com
SUMMARY:Bluegrass Tuesdays with the Clendenen Brothers - Hagerstown
DESCRIPTION:https://www.facebook.com/events/996398859205771/1004885515023772
URL:https://marylandbluegrass.com/event/bluegrass-tuesdays-with-the-clendenen-brothers-hagerstown/2026-04-14/
LOCATION:Thick N Thin Brewing Co.\, 18330 Spark Drive\, Hagerstown\, MD\, 21740\, United States
GEO:39.6018196;-77.7338475
X-APPLE-STRUCTURED-LOCATION;VALUE=URI;X-ADDRESS=Thick N Thin Brewing Co. 18330 Spark Drive Hagerstown MD 21740 United States;X-APPLE-RADIUS=500;X-TITLE=18330 Spark Drive:geo:-77.7338475,39.6018196
END:VEVENT
BEGIN:VEVENT
DTSTART;TZID=America/New_York:20260414T190000
DTEND;TZID=America/New_York:20260414T220000
DTSTAMP:20260422T042559
CREATED:20250204T014947Z
LAST-MODIFIED:20250207T150745Z
UID:10001225-1776193200-1776204000@marylandbluegrass.com
SUMMARY:Annapolis Bluegrass Jam - Edgewater
DESCRIPTION:
URL:https://marylandbluegrass.com/event/annapolis-bluegrass-jam-2/2026-04-14/
LOCATION:Coconut Joe’s – Edgewater\, 48 S River Rd\, Edgewater\, MD\, 21037\, United States
CATEGORIES:Bluegrass Jams
GEO:38.9481161;-76.5543999
X-APPLE-STRUCTURED-LOCATION;VALUE=URI;X-ADDRESS=Coconut Joe’s – Edgewater 48 S River Rd Edgewater MD 21037 United States;X-APPLE-RADIUS=500;X-TITLE=48 S River Rd:geo:-76.5543999,38.9481161
END:VEVENT
BEGIN:VEVENT
DTSTART;TZID=America/New_York:20260414T190000
DTEND;TZID=America/New_York:20260414T220000
DTSTAMP:20260422T042559
CREATED:20250605T002805Z
LAST-MODIFIED:20250605T002908Z
UID:10002579-1776193200-1776204000@marylandbluegrass.com
SUMMARY:Baltimore Bluegrass Jam - Baltimore
DESCRIPTION:The legendary Baltimore Bluegrass Jam is happening at The Green Room (in Hampden) every other Tuesday night  for some super fun nights of bluegrass music! All are welcome to play along in the jam regardless of skill level or instrument. Even if you don’t play\, you can come to soak in the scene\, listen to the music\, enjoy some beverages and get some food to eat.\nCome get your heart’s desire of fiddle & banjo music at The Green Room. The Green Room’s atmosphere is one to behold and soak up! \nThese are gonna be some fun Baltimore Bluegrass Jams. Come hang\, pick a few tunes\, and be a part of the Baltimore Bluegrass Scene. \nhttps://www.facebook.com/groups/569707316420150
URL:https://marylandbluegrass.com/event/baltimore-bluegrass-jam-baltimore/2026-04-14/
LOCATION:The Green Room\, 3600 Hickory Ave\, Baltimore\, 21211\, United States
CATEGORIES:Bluegrass Jams
END:VEVENT
BEGIN:VEVENT
DTSTART;TZID=America/New_York:20260414T190000
DTEND;TZID=America/New_York:20260414T220000
DTSTAMP:20260422T042559
CREATED:20250706T144648Z
LAST-MODIFIED:20250827T144346Z
UID:10000203-1776193200-1776204000@marylandbluegrass.com
SUMMARY:Bluegrass Jam - Halethorpe
DESCRIPTION:This jam is on the 2nd and 4th Tuesday of each month. \nAll Bluegrass Instruments are welcome. \nAll skill levels are welcome.
URL:https://marylandbluegrass.com/event/bluegrass-jam-halethorpe-4/2026-04-14/
LOCATION:American Legion – Dewey Lowman Post 109\, 1610 Old Sulphur Spring Road\, Halethorpe\, MD\, 21227\, United States
CATEGORIES:Bluegrass Jams
GEO:39.2520848;-76.6848051
X-APPLE-STRUCTURED-LOCATION;VALUE=URI;X-ADDRESS=American Legion – Dewey Lowman Post 109 1610 Old Sulphur Spring Road Halethorpe MD 21227 United States;X-APPLE-RADIUS=500;X-TITLE=1610 Old Sulphur Spring Road:geo:-76.6848051,39.2520848
END:VEVENT
END:VCALENDAR