BEGIN:VCALENDAR
VERSION:2.0
PRODID:-//Maryland Bluegrass - ECPv6.15.20//NONSGML v1.0//EN
CALSCALE:GREGORIAN
METHOD:PUBLISH
X-ORIGINAL-URL:https://marylandbluegrass.com
X-WR-CALDESC:Events for Maryland Bluegrass
REFRESH-INTERVAL;VALUE=DURATION:PT1H
X-Robots-Tag:noindex
X-PUBLISHED-TTL:PT1H
BEGIN:VTIMEZONE
TZID:America/New_York
BEGIN:DAYLIGHT
TZOFFSETFROM:-0500
TZOFFSETTO:-0400
TZNAME:EDT
DTSTART:20250309T070000
END:DAYLIGHT
BEGIN:STANDARD
TZOFFSETFROM:-0400
TZOFFSETTO:-0500
TZNAME:EST
DTSTART:20251102T060000
END:STANDARD
BEGIN:DAYLIGHT
TZOFFSETFROM:-0500
TZOFFSETTO:-0400
TZNAME:EDT
DTSTART:20260308T070000
END:DAYLIGHT
BEGIN:STANDARD
TZOFFSETFROM:-0400
TZOFFSETTO:-0500
TZNAME:EST
DTSTART:20261101T060000
END:STANDARD
BEGIN:DAYLIGHT
TZOFFSETFROM:-0500
TZOFFSETTO:-0400
TZNAME:EDT
DTSTART:20270314T070000
END:DAYLIGHT
BEGIN:STANDARD
TZOFFSETFROM:-0400
TZOFFSETTO:-0500
TZNAME:EST
DTSTART:20271107T060000
END:STANDARD
END:VTIMEZONE
BEGIN:VEVENT
DTSTART;TZID=America/New_York:20260423T173000
DTEND;TZID=America/New_York:20260423T193000
DTSTAMP:20260420T121415
CREATED:20250221T112934Z
LAST-MODIFIED:20250406T225631Z
UID:10002325-1776965400-1776972600@marylandbluegrass.com
SUMMARY:Broadneck Library Bluegrass Jam - Arnold
DESCRIPTION:Come jam with us at the library! Our traditional bluegrass jam is both for folks new to bluegrass music interested in learning its standards and those with more experience seeking to develop deeper knowledge of tunes commonly played. This group meets monthly for a no-pressure structured jam with 6-8 featured songs followed by an open jam. For questions or to receive details on our monthly song selections\, reach out to broadneckbluegrassjamcircle@gmail.com.\nTo preserve a traditional bluegrass sound\, please only bring acoustic stringed instruments. \nhttps://www.aacpl.net/event/beginners-bluegrass-jam-170488
URL:https://marylandbluegrass.com/event/library-jam-annapolis/2026-04-23/
LOCATION:Anne Arundel County Library (Broadneck)\, 1275 Green Holly Drive\, Annapolis\, MD\, 21409\, United States
GEO:39.0366244;-76.4542971
X-APPLE-STRUCTURED-LOCATION;VALUE=URI;X-ADDRESS=Anne Arundel County Library (Broadneck) 1275 Green Holly Drive Annapolis MD 21409 United States;X-APPLE-RADIUS=500;X-TITLE=1275 Green Holly Drive:geo:-76.4542971,39.0366244
END:VEVENT
BEGIN:VEVENT
DTSTART;TZID=America/New_York:20260423T190000
DTEND;TZID=America/New_York:20260423T210000
DTSTAMP:20260420T121415
CREATED:20250207T133051Z
LAST-MODIFIED:20250219T164118Z
UID:10000311-1776970800-1776978000@marylandbluegrass.com
SUMMARY:Bluegrass Night Bentztown - Frederick
DESCRIPTION:Every Thursday Matthew Geiger and I (Jason Hannan) host an open bluegrass jam at Bentztown in Frederick\, MD! It’s a mic’ed\, performance style jam in front of an appreciative audience and is open to all levels of musicians. Bentztown has terrific food and also has great drink specials for Thursday nights! Bring an instrument and join the fun or just hang out and listen!!
URL:https://marylandbluegrass.com/event/bluegrass-night-bentztown-frederick/2026-04-23/
LOCATION:Bentztown\, 6 S Bentz St\, Frederick\, Maryland\, 21701
CATEGORIES:Bluegrass Jams
GEO:39.4133121;-77.4152042
X-APPLE-STRUCTURED-LOCATION;VALUE=URI;X-ADDRESS=Bentztown 6 S Bentz St Frederick Maryland 21701;X-APPLE-RADIUS=500;X-TITLE=6 S Bentz St:geo:-77.4152042,39.4133121
END:VEVENT
BEGIN:VEVENT
DTSTART;TZID=America/New_York:20260423T190000
DTEND;TZID=America/New_York:20260423T210000
DTSTAMP:20260420T121415
CREATED:20250228T140100Z
LAST-MODIFIED:20250228T140100Z
UID:10001543-1776970800-1776978000@marylandbluegrass.com
SUMMARY:Bluegrass Slow Jam - Takoma Park
DESCRIPTION:https://schoolofmusicaltraditions.com/jams-open-mics/bluegrass-slow-jam/
URL:https://marylandbluegrass.com/event/bluegrass-slow-jam-takoma-park-2/2026-04-23/
LOCATION:School of Musical Traditions / Takoma SPARK\, 7112 Willow Ave\, Takoma Park\, MD\, 20912\, United States
GEO:38.9754503;-77.0134967
X-APPLE-STRUCTURED-LOCATION;VALUE=URI;X-ADDRESS=School of Musical Traditions / Takoma SPARK 7112 Willow Ave Takoma Park MD 20912 United States;X-APPLE-RADIUS=500;X-TITLE=7112 Willow Ave:geo:-77.0134967,38.9754503
END:VEVENT
END:VCALENDAR