BEGIN:VCALENDAR
VERSION:2.0
PRODID:-//Maryland Bluegrass - ECPv6.15.20//NONSGML v1.0//EN
CALSCALE:GREGORIAN
METHOD:PUBLISH
X-WR-CALNAME:Maryland Bluegrass
X-ORIGINAL-URL:https://marylandbluegrass.com
X-WR-CALDESC:Events for Maryland Bluegrass
REFRESH-INTERVAL;VALUE=DURATION:PT1H
X-Robots-Tag:noindex
X-PUBLISHED-TTL:PT1H
BEGIN:VTIMEZONE
TZID:America/New_York
BEGIN:DAYLIGHT
TZOFFSETFROM:-0500
TZOFFSETTO:-0400
TZNAME:EDT
DTSTART:20240310T070000
END:DAYLIGHT
BEGIN:STANDARD
TZOFFSETFROM:-0400
TZOFFSETTO:-0500
TZNAME:EST
DTSTART:20241103T060000
END:STANDARD
BEGIN:DAYLIGHT
TZOFFSETFROM:-0500
TZOFFSETTO:-0400
TZNAME:EDT
DTSTART:20250309T070000
END:DAYLIGHT
BEGIN:STANDARD
TZOFFSETFROM:-0400
TZOFFSETTO:-0500
TZNAME:EST
DTSTART:20251102T060000
END:STANDARD
BEGIN:DAYLIGHT
TZOFFSETFROM:-0500
TZOFFSETTO:-0400
TZNAME:EDT
DTSTART:20260308T070000
END:DAYLIGHT
BEGIN:STANDARD
TZOFFSETFROM:-0400
TZOFFSETTO:-0500
TZNAME:EST
DTSTART:20261101T060000
END:STANDARD
BEGIN:DAYLIGHT
TZOFFSETFROM:-0500
TZOFFSETTO:-0400
TZNAME:EDT
DTSTART:20270314T070000
END:DAYLIGHT
BEGIN:STANDARD
TZOFFSETFROM:-0400
TZOFFSETTO:-0500
TZNAME:EST
DTSTART:20271107T060000
END:STANDARD
END:VTIMEZONE
BEGIN:VEVENT
DTSTART;TZID=America/New_York:20250216T130000
DTEND;TZID=America/New_York:20250216T150000
DTSTAMP:20260419T090609
CREATED:20250208T150855Z
LAST-MODIFIED:20250215T140439Z
UID:10001276-1739710800-1739718000@marylandbluegrass.com
SUMMARY:Bluegrass Sunday with Jon Zorn and his bluegrass buds Lucas Chohany and Talbot Mayo - Baltimore
DESCRIPTION:Join us for Bluegrass Sunday with Jon Zorn and his bluegrass buds Lucas Chohany and Talbot Mayo.\nFood by Red River Smokehouse – authentic slow and low Texas BBQ.
URL:https://marylandbluegrass.com/event/bluegrass-sunday-with-jon-zorn-and-his-bluegrass-buds-lucas-chohany-and-talbot-mayo/
LOCATION:Pickett Brewing Company\, 1130 S Paca Street\, Baltimore\, MD\, 21230\, United States
CATEGORIES:Bluegrass Events
GEO:39.278812;-76.627809
X-APPLE-STRUCTURED-LOCATION;VALUE=URI;X-ADDRESS=Pickett Brewing Company 1130 S Paca Street Baltimore MD 21230 United States;X-APPLE-RADIUS=500;X-TITLE=1130 S Paca Street:geo:-76.627809,39.278812
END:VEVENT
BEGIN:VEVENT
DTSTART;TZID=America/New_York:20250222T120000
DTEND;TZID=America/New_York:20250222T200000
DTSTAMP:20260419T090609
CREATED:20250204T012102Z
LAST-MODIFIED:20250204T215439Z
UID:10000005-1740225600-1740254400@marylandbluegrass.com
SUMMARY:15th Annual Bluegrass Jam Maryland - Severn
DESCRIPTION:
URL:https://marylandbluegrass.com/event/15th-annual-bluegrass-jam-maryland/
LOCATION:American Legion – Howard L Turner Post 276\, 8068 Quarterfield Road\, Severn\, MD\, 21144\, United States
CATEGORIES:Bluegrass Events
GEO:39.1291651;-76.6655065
X-APPLE-STRUCTURED-LOCATION;VALUE=URI;X-ADDRESS=American Legion – Howard L Turner Post 276 8068 Quarterfield Road Severn MD 21144 United States;X-APPLE-RADIUS=500;X-TITLE=8068 Quarterfield Road:geo:-76.6655065,39.1291651
END:VEVENT
BEGIN:VEVENT
DTSTART;TZID=America/New_York:20251005T120000
DTEND;TZID=America/New_York:20251005T170000
DTSTAMP:20260419T090609
CREATED:20250821T114843Z
LAST-MODIFIED:20250821T114843Z
UID:10002706-1759665600-1759683600@marylandbluegrass.com
SUMMARY:Southern Maryland Bluegrass
DESCRIPTION:The Seldom Scene playing 10/05/2025. Doors open at noon band starts at 2pm. Tickets are $40.00 each.
URL:https://marylandbluegrass.com/event/southern-maryland-bluegrass/
LOCATION:Calvert Elks Lodge\, 1015 Dares Beach Rd\, Prince Frederick\, Maryland\, 20678
CATEGORIES:Bluegrass Events
ORGANIZER;CN="Jay":MAILTO:jaychelle1@verizon.net
END:VEVENT
BEGIN:VEVENT
DTSTART;TZID=America/New_York:20260315T150000
DTEND;TZID=America/New_York:20260315T180000
DTSTAMP:20260419T090609
CREATED:20260312T212824Z
LAST-MODIFIED:20260312T212824Z
UID:10003223-1773586800-1773597600@marylandbluegrass.com
SUMMARY:Sarah Larsen and Rob Parks duo @ Pherm Brewing
DESCRIPTION: Come see Sarah Larsen and Rob Parks play original and traditional American music at Pherm Brewing company.\n\nIf you pick\, bring your favorite axe and join these two multi-instrumentalists for a real Sunday Funday!\n\nSunday March\, 15 20263-6 PMPherm Brewing Company1041 MD-3\, Gambrills\, MD 21054
URL:https://marylandbluegrass.com/event/sarah-larsen-and-rob-parks-duo-pherm-brewing/
LOCATION:Pherm Brewing Company\, 1041 MD-3\, Gambrills\, MD\, 21054\, United States
CATEGORIES:Bluegrass Events
ATTACH;FMTTYPE=image/jpeg:https://marylandbluegrass.com/wp-content/uploads/2026/03/Rob-and-Sarah.jpeg
GEO:39.0276085;-76.6855756
X-APPLE-STRUCTURED-LOCATION;VALUE=URI;X-ADDRESS=Pherm Brewing Company 1041 MD-3 Gambrills MD 21054 United States;X-APPLE-RADIUS=500;X-TITLE=1041 MD-3:geo:-76.6855756,39.0276085
END:VEVENT
END:VCALENDAR