BEGIN:VCALENDAR
VERSION:2.0
PRODID:-//Maryland Bluegrass - ECPv6.15.20//NONSGML v1.0//EN
CALSCALE:GREGORIAN
METHOD:PUBLISH
X-ORIGINAL-URL:https://marylandbluegrass.com
X-WR-CALDESC:Events for Maryland Bluegrass
REFRESH-INTERVAL;VALUE=DURATION:PT1H
X-Robots-Tag:noindex
X-PUBLISHED-TTL:PT1H
BEGIN:VTIMEZONE
TZID:America/New_York
BEGIN:DAYLIGHT
TZOFFSETFROM:-0500
TZOFFSETTO:-0400
TZNAME:EDT
DTSTART:20250309T070000
END:DAYLIGHT
BEGIN:STANDARD
TZOFFSETFROM:-0400
TZOFFSETTO:-0500
TZNAME:EST
DTSTART:20251102T060000
END:STANDARD
BEGIN:DAYLIGHT
TZOFFSETFROM:-0500
TZOFFSETTO:-0400
TZNAME:EDT
DTSTART:20260308T070000
END:DAYLIGHT
BEGIN:STANDARD
TZOFFSETFROM:-0400
TZOFFSETTO:-0500
TZNAME:EST
DTSTART:20261101T060000
END:STANDARD
BEGIN:DAYLIGHT
TZOFFSETFROM:-0500
TZOFFSETTO:-0400
TZNAME:EDT
DTSTART:20270314T070000
END:DAYLIGHT
BEGIN:STANDARD
TZOFFSETFROM:-0400
TZOFFSETTO:-0500
TZNAME:EST
DTSTART:20271107T060000
END:STANDARD
END:VTIMEZONE
BEGIN:VEVENT
DTSTART;TZID=America/New_York:20260412T140000
DTEND;TZID=America/New_York:20260412T170000
DTSTAMP:20260420T104602
CREATED:20250207T135119Z
LAST-MODIFIED:20250219T164157Z
UID:10001167-1776002400-1776013200@marylandbluegrass.com
SUMMARY:Bluegrass MeetUp - Middle River
DESCRIPTION:https://www.meetup.com/baltimore-bluegrass/
URL:https://marylandbluegrass.com/event/bluegrass-meetup/2026-04-12/
LOCATION:Victory Villa Community Center\, 404 Compass Rd E\, Middle River\, MD\, 21220\, United States
CATEGORIES:Bluegrass Jams
GEO:39.3369915;-76.4572253
X-APPLE-STRUCTURED-LOCATION;VALUE=URI;X-ADDRESS=Victory Villa Community Center 404 Compass Rd E Middle River MD 21220 United States;X-APPLE-RADIUS=500;X-TITLE=404 Compass Rd E:geo:-76.4572253,39.3369915
END:VEVENT
END:VCALENDAR