BEGIN:VCALENDAR
VERSION:2.0
PRODID:-//Maryland Bluegrass - ECPv6.15.20//NONSGML v1.0//EN
CALSCALE:GREGORIAN
METHOD:PUBLISH
X-WR-CALNAME:Maryland Bluegrass
X-ORIGINAL-URL:https://marylandbluegrass.com
X-WR-CALDESC:Events for Maryland Bluegrass
REFRESH-INTERVAL;VALUE=DURATION:PT1H
X-Robots-Tag:noindex
X-PUBLISHED-TTL:PT1H
BEGIN:VTIMEZONE
TZID:America/New_York
BEGIN:DAYLIGHT
TZOFFSETFROM:-0500
TZOFFSETTO:-0400
TZNAME:EDT
DTSTART:20240310T070000
END:DAYLIGHT
BEGIN:STANDARD
TZOFFSETFROM:-0400
TZOFFSETTO:-0500
TZNAME:EST
DTSTART:20241103T060000
END:STANDARD
BEGIN:DAYLIGHT
TZOFFSETFROM:-0500
TZOFFSETTO:-0400
TZNAME:EDT
DTSTART:20250309T070000
END:DAYLIGHT
BEGIN:STANDARD
TZOFFSETFROM:-0400
TZOFFSETTO:-0500
TZNAME:EST
DTSTART:20251102T060000
END:STANDARD
BEGIN:DAYLIGHT
TZOFFSETFROM:-0500
TZOFFSETTO:-0400
TZNAME:EDT
DTSTART:20260308T070000
END:DAYLIGHT
BEGIN:STANDARD
TZOFFSETFROM:-0400
TZOFFSETTO:-0500
TZNAME:EST
DTSTART:20261101T060000
END:STANDARD
END:VTIMEZONE
BEGIN:VEVENT
DTSTART;TZID=America/New_York:20250315T180000
DTEND;TZID=America/New_York:20250315T210000
DTSTAMP:20260420T062048
CREATED:20250216T120620Z
LAST-MODIFIED:20250219T163929Z
UID:10001338-1742061600-1742072400@marylandbluegrass.com
SUMMARY:St. Patrick's Day with Potomac River Ramblers - Middle River
DESCRIPTION:Gunpowder VFW \n6309 Ebenezer Rd\, Middle River\, MD 21220 \n-LIVE CONCERT- \nCelebrate St. Patrick’s Day with live bluegrass music! \nPOTOMAC RIVER RAMBLERS \nMARCH 15~6:00PM – 9:00PM \n$20 per ticket \nAll-you-can-drink domestic draft beer (Guiness pints not included) & soda bracelet also available for purchase. Dinner menu available for an additional cost. \nProceeds split 50/50 with Post/Veterans Organization
URL:https://marylandbluegrass.com/event/st-patricks-day-with-potomac-river-ramblers-middle-river/
LOCATION:Gunpowder VFW\, 6309 Ebenezer Road\, Middle River\, 21220\, United States
CATEGORIES:Bluegrass Band
GEO:39.3642714;-76.4016989
X-APPLE-STRUCTURED-LOCATION;VALUE=URI;X-ADDRESS=Gunpowder VFW 6309 Ebenezer Road Middle River 21220 United States;X-APPLE-RADIUS=500;X-TITLE=6309 Ebenezer Road:geo:-76.4016989,39.3642714
END:VEVENT
BEGIN:VEVENT
DTSTART;TZID=America/New_York:20250315T190000
DTEND;TZID=America/New_York:20250315T220000
DTSTAMP:20260420T062048
CREATED:20250215T135901Z
LAST-MODIFIED:20250215T140151Z
UID:10001279-1742065200-1742076000@marylandbluegrass.com
SUMMARY:Cogar's Bluegrass & Country Night - Middle River
DESCRIPTION:https://www.facebook.com/groups/1394735081373465
URL:https://marylandbluegrass.com/event/cogars-bluegrass-country-night-middle-river/2025-03-15/
LOCATION:Victory Villa Community Center\, 404 Compass Rd E\, Middle River\, MD\, 21220\, United States
GEO:39.3369915;-76.4572253
X-APPLE-STRUCTURED-LOCATION;VALUE=URI;X-ADDRESS=Victory Villa Community Center 404 Compass Rd E Middle River MD 21220 United States;X-APPLE-RADIUS=500;X-TITLE=404 Compass Rd E:geo:-76.4572253,39.3369915
END:VEVENT
BEGIN:VEVENT
DTSTART;TZID=America/New_York:20250316T000000
DTEND;TZID=America/New_York:20250316T235959
DTSTAMP:20260420T062048
CREATED:20250204T020000Z
LAST-MODIFIED:20250307T184912Z
UID:10002036-1742083200-1742169599@marylandbluegrass.com
SUMMARY:Wernick Method Jam Class with Ira Gitlin - College Park
DESCRIPTION:Taught by Ira Gitlin using the Wernick Method\n\n\n\n\nCollege Park\, MD \nPrivate residence in the DC suburbs; address provided upon registration \n3/9/2025 to 3/30/2025 on Sundays\, 1:00-5:00pm \nTuition: $200 for 4 sessions \nRegistration is HERE
URL:https://marylandbluegrass.com/event/wernick-method-jam-class-with-ira-gitlin-college-park/2025-03-16/
LOCATION:MD
END:VEVENT
BEGIN:VEVENT
DTSTART;TZID=America/New_York:20250316T130000
DTEND;TZID=America/New_York:20250316T150000
DTSTAMP:20260420T062048
CREATED:20250208T150057Z
LAST-MODIFIED:20250219T163911Z
UID:10001275-1742130000-1742137200@marylandbluegrass.com
SUMMARY:Bluegrass Sunday with Rock Creek Revival
DESCRIPTION:Join us for Bluegrass Sunday with Rock Creek Revival\, a Maryland-based band that draws inspiration from the broad history of bluegrass. \n \nFood by Red River Smokehouse – authentic slow and low Texas BBQ.
URL:https://marylandbluegrass.com/event/bluegrass-sunday-with-rock-creek-revival/
LOCATION:Pickett Brewing Company\, 1130 S Paca Street\, Baltimore\, MD\, 21230\, United States
CATEGORIES:Bluegrass Band
GEO:39.278812;-76.627809
X-APPLE-STRUCTURED-LOCATION;VALUE=URI;X-ADDRESS=Pickett Brewing Company 1130 S Paca Street Baltimore MD 21230 United States;X-APPLE-RADIUS=500;X-TITLE=1130 S Paca Street:geo:-76.627809,39.278812
END:VEVENT
BEGIN:VEVENT
DTSTART;TZID=America/New_York:20250317T190000
DTEND;TZID=America/New_York:20250317T210000
DTSTAMP:20260420T062048
CREATED:20250207T133528Z
LAST-MODIFIED:20250228T142952Z
UID:10000895-1742238000-1742245200@marylandbluegrass.com
SUMMARY:Liquidity Aleworks Bluegrass Jam - Mt Airy
DESCRIPTION:An open bluegrass jam at Liquidity Aleworks in Mount Airy\, MD! Hosted by Bianca Bentz and Jason Hannan. Open and encouraging to all skill levels! \n \nhttps://www.facebook.com/events/999863598428361/1122166306198089
URL:https://marylandbluegrass.com/event/liquidity-aleworks-bluegrass-jam-mt-airy/2025-03-17/
LOCATION:Liquidity Aleworks\, 8 N Main St\, Mt Airy\, MD\, 21771\, United States
CATEGORIES:Bluegrass Jams
GEO:39.3775048;-77.1542234
X-APPLE-STRUCTURED-LOCATION;VALUE=URI;X-ADDRESS=Liquidity Aleworks 8 N Main St Mt Airy MD 21771 United States;X-APPLE-RADIUS=500;X-TITLE=8 N Main St:geo:-77.1542234,39.3775048
END:VEVENT
BEGIN:VEVENT
DTSTART;TZID=America/New_York:20250318T180000
DTEND;TZID=America/New_York:20250318T200000
DTSTAMP:20260420T062048
CREATED:20250228T142850Z
LAST-MODIFIED:20250326T141212Z
UID:10002047-1742320800-1742328000@marylandbluegrass.com
SUMMARY:Bluegrass Tuesdays with the Clendenen Brothers - Hagerstown
DESCRIPTION:https://www.facebook.com/events/996398859205771/1004885515023772
URL:https://marylandbluegrass.com/event/bluegrass-tuesdays-with-the-clendenen-brothers-hagerstown/2025-03-18/
LOCATION:Thick N Thin Brewing Co.\, 18330 Spark Drive\, Hagerstown\, MD\, 21740\, United States
GEO:39.6018196;-77.7338475
X-APPLE-STRUCTURED-LOCATION;VALUE=URI;X-ADDRESS=Thick N Thin Brewing Co. 18330 Spark Drive Hagerstown MD 21740 United States;X-APPLE-RADIUS=500;X-TITLE=18330 Spark Drive:geo:-77.7338475,39.6018196
END:VEVENT
BEGIN:VEVENT
DTSTART;TZID=America/New_York:20250318T183000
DTEND;TZID=America/New_York:20250318T220000
DTSTAMP:20260420T062048
CREATED:20250204T002124Z
LAST-MODIFIED:20250207T132525Z
UID:10000072-1742322600-1742335200@marylandbluegrass.com
SUMMARY:Bluegrass Jam - Severn
DESCRIPTION:This jam is on the 1st and 3rd Tuesday of each month. \nAll Bluegrass Instruments are welcome. \nAll skill levels are welcome.
URL:https://marylandbluegrass.com/event/bluegrass-jam-severn-2/2025-03-18/
LOCATION:American Legion – Howard L Turner Post 276\, 8068 Quarterfield Road\, Severn\, MD\, 21144\, United States
CATEGORIES:Bluegrass Jams
GEO:39.1291651;-76.6655065
X-APPLE-STRUCTURED-LOCATION;VALUE=URI;X-ADDRESS=American Legion – Howard L Turner Post 276 8068 Quarterfield Road Severn MD 21144 United States;X-APPLE-RADIUS=500;X-TITLE=8068 Quarterfield Road:geo:-76.6655065,39.1291651
END:VEVENT
BEGIN:VEVENT
DTSTART;TZID=America/New_York:20250319T180000
DTEND;TZID=America/New_York:20250319T210000
DTSTAMP:20260420T062048
CREATED:20250228T140410Z
LAST-MODIFIED:20250228T140514Z
UID:10001347-1742407200-1742418000@marylandbluegrass.com
SUMMARY:Bluegrass Jam - Upperco
DESCRIPTION:Upperco Volunteer Fire Company
URL:https://marylandbluegrass.com/event/bluegrass-jam-upperco-2/2025-03-19/
LOCATION:Upperco Volunteer Fire Company\, 16020 Carnival Ave\, Upperco\, MD\, 21155\, United States
GEO:39.5644613;-76.83581
X-APPLE-STRUCTURED-LOCATION;VALUE=URI;X-ADDRESS=Upperco Volunteer Fire Company 16020 Carnival Ave Upperco MD 21155 United States;X-APPLE-RADIUS=500;X-TITLE=16020 Carnival Ave:geo:-76.83581,39.5644613
END:VEVENT
BEGIN:VEVENT
DTSTART;TZID=America/New_York:20250320T190000
DTEND;TZID=America/New_York:20250320T210000
DTSTAMP:20260420T062048
CREATED:20250207T133051Z
LAST-MODIFIED:20250219T164118Z
UID:10000254-1742497200-1742504400@marylandbluegrass.com
SUMMARY:Bluegrass Night Bentztown - Frederick
DESCRIPTION:Every Thursday Matthew Geiger and I (Jason Hannan) host an open bluegrass jam at Bentztown in Frederick\, MD! It’s a mic’ed\, performance style jam in front of an appreciative audience and is open to all levels of musicians. Bentztown has terrific food and also has great drink specials for Thursday nights! Bring an instrument and join the fun or just hang out and listen!!
URL:https://marylandbluegrass.com/event/bluegrass-night-bentztown-frederick/2025-03-20/
LOCATION:Bentztown\, 6 S Bentz St\, Frederick\, Maryland\, 21701
CATEGORIES:Bluegrass Jams
GEO:39.4133121;-77.4152042
X-APPLE-STRUCTURED-LOCATION;VALUE=URI;X-ADDRESS=Bentztown 6 S Bentz St Frederick Maryland 21701;X-APPLE-RADIUS=500;X-TITLE=6 S Bentz St:geo:-77.4152042,39.4133121
END:VEVENT
BEGIN:VEVENT
DTSTART;TZID=America/New_York:20250320T190000
DTEND;TZID=America/New_York:20250320T220000
DTSTAMP:20260420T062048
CREATED:20250204T023421Z
LAST-MODIFIED:20250618T224113Z
UID:10000570-1742497200-1742508000@marylandbluegrass.com
SUMMARY:Bluegrass Jams at Pickett - Baltimore
DESCRIPTION:https://facebook.com/events/s/bluegrass-jams-at-pickett-1st-/2023845478064528/
URL:https://marylandbluegrass.com/event/bluegrass-jams-at-pickett-baltimore-2/2025-03-20/
LOCATION:Pickett Brewing Company\, 1130 S Paca Street\, Baltimore\, MD\, 21230\, United States
CATEGORIES:Bluegrass Jams
GEO:39.278812;-76.627809
X-APPLE-STRUCTURED-LOCATION;VALUE=URI;X-ADDRESS=Pickett Brewing Company 1130 S Paca Street Baltimore MD 21230 United States;X-APPLE-RADIUS=500;X-TITLE=1130 S Paca Street:geo:-76.627809,39.278812
END:VEVENT
BEGIN:VEVENT
DTSTART;TZID=America/New_York:20250323T000000
DTEND;TZID=America/New_York:20250323T235959
DTSTAMP:20260420T062048
CREATED:20250204T020000Z
LAST-MODIFIED:20250307T184912Z
UID:10002037-1742688000-1742774399@marylandbluegrass.com
SUMMARY:Wernick Method Jam Class with Ira Gitlin - College Park
DESCRIPTION:Taught by Ira Gitlin using the Wernick Method\n\n\n\n\nCollege Park\, MD \nPrivate residence in the DC suburbs; address provided upon registration \n3/9/2025 to 3/30/2025 on Sundays\, 1:00-5:00pm \nTuition: $200 for 4 sessions \nRegistration is HERE
URL:https://marylandbluegrass.com/event/wernick-method-jam-class-with-ira-gitlin-college-park/2025-03-23/
LOCATION:MD
END:VEVENT
BEGIN:VEVENT
DTSTART;TZID=America/New_York:20250323T140000
DTEND;TZID=America/New_York:20250323T160000
DTSTAMP:20260420T062048
CREATED:20250228T141342Z
LAST-MODIFIED:20250427T151842Z
UID:10002494-1742738400-1742745600@marylandbluegrass.com
SUMMARY:Sandy Spring Bluegrass Jam - Sandy Spring
DESCRIPTION:https://www.facebook.com/events/606602108583865/606602148583861/
URL:https://marylandbluegrass.com/event/sandy-spring-bluegrass-jam-sandy-spring/2025-03-23/
LOCATION:Sandy Spring Museum\, 17901 Bentley Road\, Sandy Spring\, MD\, 20860\, United States
GEO:39.1495709;-77.0213295
X-APPLE-STRUCTURED-LOCATION;VALUE=URI;X-ADDRESS=Sandy Spring Museum 17901 Bentley Road Sandy Spring MD 20860 United States;X-APPLE-RADIUS=500;X-TITLE=17901 Bentley Road:geo:-77.0213295,39.1495709
END:VEVENT
BEGIN:VEVENT
DTSTART;TZID=America/New_York:20250324T190000
DTEND;TZID=America/New_York:20250324T210000
DTSTAMP:20260420T062048
CREATED:20250207T133528Z
LAST-MODIFIED:20250228T142952Z
UID:10000896-1742842800-1742850000@marylandbluegrass.com
SUMMARY:Liquidity Aleworks Bluegrass Jam - Mt Airy
DESCRIPTION:An open bluegrass jam at Liquidity Aleworks in Mount Airy\, MD! Hosted by Bianca Bentz and Jason Hannan. Open and encouraging to all skill levels! \n \nhttps://www.facebook.com/events/999863598428361/1122166306198089
URL:https://marylandbluegrass.com/event/liquidity-aleworks-bluegrass-jam-mt-airy/2025-03-24/
LOCATION:Liquidity Aleworks\, 8 N Main St\, Mt Airy\, MD\, 21771\, United States
CATEGORIES:Bluegrass Jams
GEO:39.3775048;-77.1542234
X-APPLE-STRUCTURED-LOCATION;VALUE=URI;X-ADDRESS=Liquidity Aleworks 8 N Main St Mt Airy MD 21771 United States;X-APPLE-RADIUS=500;X-TITLE=8 N Main St:geo:-77.1542234,39.3775048
END:VEVENT
BEGIN:VEVENT
DTSTART;TZID=America/New_York:20250325T180000
DTEND;TZID=America/New_York:20250325T200000
DTSTAMP:20260420T062048
CREATED:20250228T142850Z
LAST-MODIFIED:20250326T141212Z
UID:10002048-1742925600-1742932800@marylandbluegrass.com
SUMMARY:Bluegrass Tuesdays with the Clendenen Brothers - Hagerstown
DESCRIPTION:https://www.facebook.com/events/996398859205771/1004885515023772
URL:https://marylandbluegrass.com/event/bluegrass-tuesdays-with-the-clendenen-brothers-hagerstown/2025-03-25/
LOCATION:Thick N Thin Brewing Co.\, 18330 Spark Drive\, Hagerstown\, MD\, 21740\, United States
GEO:39.6018196;-77.7338475
X-APPLE-STRUCTURED-LOCATION;VALUE=URI;X-ADDRESS=Thick N Thin Brewing Co. 18330 Spark Drive Hagerstown MD 21740 United States;X-APPLE-RADIUS=500;X-TITLE=18330 Spark Drive:geo:-77.7338475,39.6018196
END:VEVENT
BEGIN:VEVENT
DTSTART;TZID=America/New_York:20250325T190000
DTEND;TZID=America/New_York:20250325T220000
DTSTAMP:20260420T062048
CREATED:20250204T002034Z
LAST-MODIFIED:20250207T132553Z
UID:10000131-1742929200-1742940000@marylandbluegrass.com
SUMMARY:Bluegrass Jam - HaleThorpe
DESCRIPTION:This jam is on the 2nd and 4th Tuesday of each month. \nAll Bluegrass Instruments are welcome. \nAll skill levels are welcome.
URL:https://marylandbluegrass.com/event/bluegrass-jam-halethorpe-2/2025-03-25/
LOCATION:American Legion – Dewey Lowman Post 109\, 1610 Old Sulphur Spring Road\, Halethorpe\, MD\, 21227\, United States
CATEGORIES:Bluegrass Jams
GEO:39.2520848;-76.6848051
X-APPLE-STRUCTURED-LOCATION;VALUE=URI;X-ADDRESS=American Legion – Dewey Lowman Post 109 1610 Old Sulphur Spring Road Halethorpe MD 21227 United States;X-APPLE-RADIUS=500;X-TITLE=1610 Old Sulphur Spring Road:geo:-76.6848051,39.2520848
END:VEVENT
BEGIN:VEVENT
DTSTART;TZID=America/New_York:20250327T190000
DTEND;TZID=America/New_York:20250327T210000
DTSTAMP:20260420T062048
CREATED:20250228T140100Z
LAST-MODIFIED:20250228T140100Z
UID:10001530-1743102000-1743109200@marylandbluegrass.com
SUMMARY:Bluegrass Slow Jam - Takoma Park
DESCRIPTION:https://schoolofmusicaltraditions.com/jams-open-mics/bluegrass-slow-jam/
URL:https://marylandbluegrass.com/event/bluegrass-slow-jam-takoma-park-2/2025-03-27/
LOCATION:School of Musical Traditions / Takoma SPARK\, 7112 Willow Ave\, Takoma Park\, MD\, 20912\, United States
GEO:38.9754503;-77.0134967
X-APPLE-STRUCTURED-LOCATION;VALUE=URI;X-ADDRESS=School of Musical Traditions / Takoma SPARK 7112 Willow Ave Takoma Park MD 20912 United States;X-APPLE-RADIUS=500;X-TITLE=7112 Willow Ave:geo:-77.0134967,38.9754503
END:VEVENT
BEGIN:VEVENT
DTSTART;TZID=America/New_York:20250327T190000
DTEND;TZID=America/New_York:20250327T210000
DTSTAMP:20260420T062048
CREATED:20250207T133051Z
LAST-MODIFIED:20250219T164118Z
UID:10000255-1743102000-1743109200@marylandbluegrass.com
SUMMARY:Bluegrass Night Bentztown - Frederick
DESCRIPTION:Every Thursday Matthew Geiger and I (Jason Hannan) host an open bluegrass jam at Bentztown in Frederick\, MD! It’s a mic’ed\, performance style jam in front of an appreciative audience and is open to all levels of musicians. Bentztown has terrific food and also has great drink specials for Thursday nights! Bring an instrument and join the fun or just hang out and listen!!
URL:https://marylandbluegrass.com/event/bluegrass-night-bentztown-frederick/2025-03-27/
LOCATION:Bentztown\, 6 S Bentz St\, Frederick\, Maryland\, 21701
CATEGORIES:Bluegrass Jams
GEO:39.4133121;-77.4152042
X-APPLE-STRUCTURED-LOCATION;VALUE=URI;X-ADDRESS=Bentztown 6 S Bentz St Frederick Maryland 21701;X-APPLE-RADIUS=500;X-TITLE=6 S Bentz St:geo:-77.4152042,39.4133121
END:VEVENT
BEGIN:VEVENT
DTSTART;TZID=America/New_York:20250328T193000
DTEND;TZID=America/New_York:20250328T213000
DTSTAMP:20260420T062048
CREATED:20250326T140042Z
LAST-MODIFIED:20250326T140042Z
UID:10002043-1743190200-1743197400@marylandbluegrass.com
SUMMARY:Concert - Big Howdy - Baltimore
DESCRIPTION:Come hear D.C.’s premier bluegrass band in NE Baltimore’s most accessible\, cozy listening room.\nBig Howdy is an award-winning progressive bluegrass band known for its powerful lead singing\, rich vocal harmonies\, and instrumental chops. With a repertoire that mixes bluegrass classics with emotionally compelling original songs\, intriguingly novel instrumentals\, and well-chosen contemporary material\, Big Howdy presents bluegrass with modern polish while honoring the drive that lies at the heart of the music.\nWith band members Dede Wyland on guitar\, Tom McLaughlin on Mandolin\, Randy Barrett on banjo\, Ira Gitlin on bass\, and all members singing dazzling vocals and harmonies\, you do not want to miss this rare Baltimore appearance!\n$20 donation suggested
URL:https://marylandbluegrass.com/event/concert-big-howdy-baltimore/
LOCATION:Four Hour Day\, 4305 Harford Road\, Baltimore\, Maryland\, 21214
GEO:39.3386814;-76.5731985
X-APPLE-STRUCTURED-LOCATION;VALUE=URI;X-ADDRESS=Four Hour Day 4305 Harford Road Baltimore Maryland 21214;X-APPLE-RADIUS=500;X-TITLE=4305 Harford Road:geo:-76.5731985,39.3386814
END:VEVENT
BEGIN:VEVENT
DTSTART;TZID=America/New_York:20250329T130000
DTEND;TZID=America/New_York:20250329T160000
DTSTAMP:20260420T062048
CREATED:20250308T192656Z
LAST-MODIFIED:20250308T192656Z
UID:10002040-1743253200-1743264000@marylandbluegrass.com
SUMMARY:The Birthday Bash - Savage
DESCRIPTION:
URL:https://marylandbluegrass.com/event/the-birthday-bash-savage/
LOCATION:Carrol Baldwin Memorial Hall\, 9035 Baltimore Street\, Savage\, MD\, 20763\, United States
GEO:39.13762;-76.8251369
X-APPLE-STRUCTURED-LOCATION;VALUE=URI;X-ADDRESS=Carrol Baldwin Memorial Hall 9035 Baltimore Street Savage MD 20763 United States;X-APPLE-RADIUS=500;X-TITLE=9035 Baltimore Street:geo:-76.8251369,39.13762
END:VEVENT
BEGIN:VEVENT
DTSTART;TZID=America/New_York:20250329T130000
DTEND;TZID=America/New_York:20250329T163000
DTSTAMP:20260420T062048
CREATED:20250326T140139Z
LAST-MODIFIED:20250326T140139Z
UID:10002044-1743253200-1743265800@marylandbluegrass.com
SUMMARY:Bluegrass Jam with Ann Porcella & Jonathan Vocke - Baltimore
DESCRIPTION:Come join a one-off Saturday afternoon bluegrass jam as part of the Hamilton-Lauraville bluegrass weekend that also celebrates and benefits Blue Water Baltimore! Bring your instruments and songs\, and join in the fun. This is a free event\, and we will put out a tip jar for Blue Water Baltimore. Jonathan Vocke and Ann Porcella will be your hosts. Come to play some music\, and stay in our lovely neighborhood to have dinner at one of our excellent restaurants. Stay even later for the great line-up of bluegrass and folk bands at Micky’s Joint and Wax Atlas\, both just a mile up the road
URL:https://marylandbluegrass.com/event/bluegrass-jam-with-ann-porcella-jonathan-vocke-baltimore/
LOCATION:Four Hour Day\, 4305 Harford Road\, Baltimore\, Maryland\, 21214
GEO:39.3386814;-76.5731985
X-APPLE-STRUCTURED-LOCATION;VALUE=URI;X-ADDRESS=Four Hour Day 4305 Harford Road Baltimore Maryland 21214;X-APPLE-RADIUS=500;X-TITLE=4305 Harford Road:geo:-76.5731985,39.3386814
END:VEVENT
BEGIN:VEVENT
DTSTART;TZID=America/New_York:20250329T180000
DTEND;TZID=America/New_York:20250329T210000
DTSTAMP:20260420T062048
CREATED:20250328T152154Z
LAST-MODIFIED:20250328T152154Z
UID:10002311-1743271200-1743282000@marylandbluegrass.com
SUMMARY:Black-Eyed Suzies - Gambrills
DESCRIPTION:The Black-Eyed Suzies are stoked to bring Girl Grass to Pherm Brewing Co. all winter long! \nJoin us for three shows in Gambrills\, MD at one of our favorite local breweries. We’ll be testing new material\, offering up some recently written original Bluegrass\, and enjoying locally crafted beer! We’ll also have our merch\, including our “Suzies’ Stuff” herbal remedies to get you through the cold months. It’s locally hand crafted by our galpal from Idle Weeds Apothecary! Come get some Suzies’ Tea or salve.
URL:https://marylandbluegrass.com/event/black-eyed-suzies-gambrills/2025-03-29/
LOCATION:Pherm Brewing Company\, 1041 MD-3\, Gambrills\, MD\, 21054\, United States
GEO:39.0276085;-76.6855756
X-APPLE-STRUCTURED-LOCATION;VALUE=URI;X-ADDRESS=Pherm Brewing Company 1041 MD-3 Gambrills MD 21054 United States;X-APPLE-RADIUS=500;X-TITLE=1041 MD-3:geo:-76.6855756,39.0276085
END:VEVENT
BEGIN:VEVENT
DTSTART;TZID=America/New_York:20250330T000000
DTEND;TZID=America/New_York:20250330T235959
DTSTAMP:20260420T062048
CREATED:20250204T020000Z
LAST-MODIFIED:20250307T184912Z
UID:10002038-1743292800-1743379199@marylandbluegrass.com
SUMMARY:Wernick Method Jam Class with Ira Gitlin - College Park
DESCRIPTION:Taught by Ira Gitlin using the Wernick Method\n\n\n\n\nCollege Park\, MD \nPrivate residence in the DC suburbs; address provided upon registration \n3/9/2025 to 3/30/2025 on Sundays\, 1:00-5:00pm \nTuition: $200 for 4 sessions \nRegistration is HERE
URL:https://marylandbluegrass.com/event/wernick-method-jam-class-with-ira-gitlin-college-park/2025-03-30/
LOCATION:MD
END:VEVENT
BEGIN:VEVENT
DTSTART;TZID=America/New_York:20250331T190000
DTEND;TZID=America/New_York:20250331T210000
DTSTAMP:20260420T062048
CREATED:20250207T133528Z
LAST-MODIFIED:20250228T142952Z
UID:10000897-1743447600-1743454800@marylandbluegrass.com
SUMMARY:Liquidity Aleworks Bluegrass Jam - Mt Airy
DESCRIPTION:An open bluegrass jam at Liquidity Aleworks in Mount Airy\, MD! Hosted by Bianca Bentz and Jason Hannan. Open and encouraging to all skill levels! \n \nhttps://www.facebook.com/events/999863598428361/1122166306198089
URL:https://marylandbluegrass.com/event/liquidity-aleworks-bluegrass-jam-mt-airy/2025-03-31/
LOCATION:Liquidity Aleworks\, 8 N Main St\, Mt Airy\, MD\, 21771\, United States
CATEGORIES:Bluegrass Jams
GEO:39.3775048;-77.1542234
X-APPLE-STRUCTURED-LOCATION;VALUE=URI;X-ADDRESS=Liquidity Aleworks 8 N Main St Mt Airy MD 21771 United States;X-APPLE-RADIUS=500;X-TITLE=8 N Main St:geo:-77.1542234,39.3775048
END:VEVENT
BEGIN:VEVENT
DTSTART;TZID=America/New_York:20250401T180000
DTEND;TZID=America/New_York:20250401T200000
DTSTAMP:20260420T062048
CREATED:20250228T142850Z
LAST-MODIFIED:20250326T141212Z
UID:10002049-1743530400-1743537600@marylandbluegrass.com
SUMMARY:Bluegrass Tuesdays with the Clendenen Brothers - Hagerstown
DESCRIPTION:https://www.facebook.com/events/996398859205771/1004885515023772
URL:https://marylandbluegrass.com/event/bluegrass-tuesdays-with-the-clendenen-brothers-hagerstown/2025-04-01/
LOCATION:Thick N Thin Brewing Co.\, 18330 Spark Drive\, Hagerstown\, MD\, 21740\, United States
GEO:39.6018196;-77.7338475
X-APPLE-STRUCTURED-LOCATION;VALUE=URI;X-ADDRESS=Thick N Thin Brewing Co. 18330 Spark Drive Hagerstown MD 21740 United States;X-APPLE-RADIUS=500;X-TITLE=18330 Spark Drive:geo:-77.7338475,39.6018196
END:VEVENT
BEGIN:VEVENT
DTSTART;TZID=America/New_York:20250401T183000
DTEND;TZID=America/New_York:20250401T220000
DTSTAMP:20260420T062048
CREATED:20250204T215105Z
LAST-MODIFIED:20250207T132416Z
UID:10000013-1743532200-1743544800@marylandbluegrass.com
SUMMARY:Bluegrass Jam - Severn
DESCRIPTION:This jam is on the 1st and 3rd Tuesday of each month. \nAll Bluegrass Instruments are welcome. \nAll skill levels are welcome.
URL:https://marylandbluegrass.com/event/bluegrass-jam-severn-3/2025-04-01/
LOCATION:American Legion – Howard L Turner Post 276\, 8068 Quarterfield Road\, Severn\, MD\, 21144\, United States
CATEGORIES:Bluegrass Jams
GEO:39.1291651;-76.6655065
X-APPLE-STRUCTURED-LOCATION;VALUE=URI;X-ADDRESS=American Legion – Howard L Turner Post 276 8068 Quarterfield Road Severn MD 21144 United States;X-APPLE-RADIUS=500;X-TITLE=8068 Quarterfield Road:geo:-76.6655065,39.1291651
END:VEVENT
BEGIN:VEVENT
DTSTART;TZID=America/New_York:20250403T190000
DTEND;TZID=America/New_York:20250403T210000
DTSTAMP:20260420T062048
CREATED:20250207T133051Z
LAST-MODIFIED:20250219T164118Z
UID:10000256-1743706800-1743714000@marylandbluegrass.com
SUMMARY:Bluegrass Night Bentztown - Frederick
DESCRIPTION:Every Thursday Matthew Geiger and I (Jason Hannan) host an open bluegrass jam at Bentztown in Frederick\, MD! It’s a mic’ed\, performance style jam in front of an appreciative audience and is open to all levels of musicians. Bentztown has terrific food and also has great drink specials for Thursday nights! Bring an instrument and join the fun or just hang out and listen!!
URL:https://marylandbluegrass.com/event/bluegrass-night-bentztown-frederick/2025-04-03/
LOCATION:Bentztown\, 6 S Bentz St\, Frederick\, Maryland\, 21701
CATEGORIES:Bluegrass Jams
GEO:39.4133121;-77.4152042
X-APPLE-STRUCTURED-LOCATION;VALUE=URI;X-ADDRESS=Bentztown 6 S Bentz St Frederick Maryland 21701;X-APPLE-RADIUS=500;X-TITLE=6 S Bentz St:geo:-77.4152042,39.4133121
END:VEVENT
BEGIN:VEVENT
DTSTART;TZID=America/New_York:20250403T190000
DTEND;TZID=America/New_York:20250403T220000
DTSTAMP:20260420T062048
CREATED:20250208T143925Z
LAST-MODIFIED:20250228T141502Z
UID:10000511-1743706800-1743717600@marylandbluegrass.com
SUMMARY:Bluegrass Jams at Pickett - Baltimore
DESCRIPTION:https://facebook.com/events/s/bluegrass-jams-at-pickett-1st-/2023845478064528/
URL:https://marylandbluegrass.com/event/bluegrass-jams-at-pickett-baltimore-3/2025-04-03/
LOCATION:Pickett Brewing Company\, 1130 S Paca Street\, Baltimore\, MD\, 21230\, United States
CATEGORIES:Bluegrass Jams
GEO:39.278812;-76.627809
X-APPLE-STRUCTURED-LOCATION;VALUE=URI;X-ADDRESS=Pickett Brewing Company 1130 S Paca Street Baltimore MD 21230 United States;X-APPLE-RADIUS=500;X-TITLE=1130 S Paca Street:geo:-76.627809,39.278812
END:VEVENT
BEGIN:VEVENT
DTSTART;TZID=America/New_York:20250405T173000
DTEND;TZID=America/New_York:20250405T193000
DTSTAMP:20260420T062048
CREATED:20250303T124358Z
LAST-MODIFIED:20250303T124715Z
UID:10001976-1743874200-1743881400@marylandbluegrass.com
SUMMARY:Big Howdy Bluegrass Showcase - Rockville
DESCRIPTION:Music from host band Big Howdy\, with a different special guest every month \nhttp://www.bighowdyband.com
URL:https://marylandbluegrass.com/event/big-howdy-bluegrass-showcase-rockville/2025-04-05/
LOCATION:Hank Dietle’s Tavern\, 11010 Rockville Pike\, Rockville\, MD\, 20852\, United States
GEO:39.0388549;-77.1093343
X-APPLE-STRUCTURED-LOCATION;VALUE=URI;X-ADDRESS=Hank Dietle’s Tavern 11010 Rockville Pike Rockville MD 20852 United States;X-APPLE-RADIUS=500;X-TITLE=11010 Rockville Pike:geo:-77.1093343,39.0388549
END:VEVENT
BEGIN:VEVENT
DTSTART;TZID=America/New_York:20250406T000000
DTEND;TZID=America/New_York:20250406T235959
DTSTAMP:20260420T062048
CREATED:20250204T020000Z
LAST-MODIFIED:20250307T184912Z
UID:10002039-1743897600-1743983999@marylandbluegrass.com
SUMMARY:Wernick Method Jam Class with Ira Gitlin - College Park
DESCRIPTION:Taught by Ira Gitlin using the Wernick Method\n\n\n\n\nCollege Park\, MD \nPrivate residence in the DC suburbs; address provided upon registration \n3/9/2025 to 3/30/2025 on Sundays\, 1:00-5:00pm \nTuition: $200 for 4 sessions \nRegistration is HERE
URL:https://marylandbluegrass.com/event/wernick-method-jam-class-with-ira-gitlin-college-park/2025-04-06/
LOCATION:MD
END:VEVENT
BEGIN:VEVENT
DTSTART;TZID=America/New_York:20250407T190000
DTEND;TZID=America/New_York:20250407T210000
DTSTAMP:20260420T062048
CREATED:20250207T133528Z
LAST-MODIFIED:20250228T142952Z
UID:10000898-1744052400-1744059600@marylandbluegrass.com
SUMMARY:Liquidity Aleworks Bluegrass Jam - Mt Airy
DESCRIPTION:An open bluegrass jam at Liquidity Aleworks in Mount Airy\, MD! Hosted by Bianca Bentz and Jason Hannan. Open and encouraging to all skill levels! \n \nhttps://www.facebook.com/events/999863598428361/1122166306198089
URL:https://marylandbluegrass.com/event/liquidity-aleworks-bluegrass-jam-mt-airy/2025-04-07/
LOCATION:Liquidity Aleworks\, 8 N Main St\, Mt Airy\, MD\, 21771\, United States
CATEGORIES:Bluegrass Jams
GEO:39.3775048;-77.1542234
X-APPLE-STRUCTURED-LOCATION;VALUE=URI;X-ADDRESS=Liquidity Aleworks 8 N Main St Mt Airy MD 21771 United States;X-APPLE-RADIUS=500;X-TITLE=8 N Main St:geo:-77.1542234,39.3775048
END:VEVENT
END:VCALENDAR