BEGIN:VCALENDAR
VERSION:2.0
PRODID:-//Maryland Bluegrass - ECPv6.15.20//NONSGML v1.0//EN
CALSCALE:GREGORIAN
METHOD:PUBLISH
X-WR-CALNAME:Maryland Bluegrass
X-ORIGINAL-URL:https://marylandbluegrass.com
X-WR-CALDESC:Events for Maryland Bluegrass
REFRESH-INTERVAL;VALUE=DURATION:PT1H
X-Robots-Tag:noindex
X-PUBLISHED-TTL:PT1H
BEGIN:VTIMEZONE
TZID:America/New_York
BEGIN:DAYLIGHT
TZOFFSETFROM:-0500
TZOFFSETTO:-0400
TZNAME:EDT
DTSTART:20240310T070000
END:DAYLIGHT
BEGIN:STANDARD
TZOFFSETFROM:-0400
TZOFFSETTO:-0500
TZNAME:EST
DTSTART:20241103T060000
END:STANDARD
BEGIN:DAYLIGHT
TZOFFSETFROM:-0500
TZOFFSETTO:-0400
TZNAME:EDT
DTSTART:20250309T070000
END:DAYLIGHT
BEGIN:STANDARD
TZOFFSETFROM:-0400
TZOFFSETTO:-0500
TZNAME:EST
DTSTART:20251102T060000
END:STANDARD
BEGIN:DAYLIGHT
TZOFFSETFROM:-0500
TZOFFSETTO:-0400
TZNAME:EDT
DTSTART:20260308T070000
END:DAYLIGHT
BEGIN:STANDARD
TZOFFSETFROM:-0400
TZOFFSETTO:-0500
TZNAME:EST
DTSTART:20261101T060000
END:STANDARD
END:VTIMEZONE
BEGIN:VEVENT
DTSTART;TZID=America/New_York:20250329T180000
DTEND;TZID=America/New_York:20250329T210000
DTSTAMP:20260420T091818
CREATED:20250328T152154Z
LAST-MODIFIED:20250328T152154Z
UID:10002311-1743271200-1743282000@marylandbluegrass.com
SUMMARY:Black-Eyed Suzies - Gambrills
DESCRIPTION:The Black-Eyed Suzies are stoked to bring Girl Grass to Pherm Brewing Co. all winter long! \nJoin us for three shows in Gambrills\, MD at one of our favorite local breweries. We’ll be testing new material\, offering up some recently written original Bluegrass\, and enjoying locally crafted beer! We’ll also have our merch\, including our “Suzies’ Stuff” herbal remedies to get you through the cold months. It’s locally hand crafted by our galpal from Idle Weeds Apothecary! Come get some Suzies’ Tea or salve.
URL:https://marylandbluegrass.com/event/black-eyed-suzies-gambrills/2025-03-29/
LOCATION:Pherm Brewing Company\, 1041 MD-3\, Gambrills\, MD\, 21054\, United States
GEO:39.0276085;-76.6855756
X-APPLE-STRUCTURED-LOCATION;VALUE=URI;X-ADDRESS=Pherm Brewing Company 1041 MD-3 Gambrills MD 21054 United States;X-APPLE-RADIUS=500;X-TITLE=1041 MD-3:geo:-76.6855756,39.0276085
END:VEVENT
BEGIN:VEVENT
DTSTART;TZID=America/New_York:20250330T000000
DTEND;TZID=America/New_York:20250330T235959
DTSTAMP:20260420T091818
CREATED:20250204T020000Z
LAST-MODIFIED:20250307T184912Z
UID:10002038-1743292800-1743379199@marylandbluegrass.com
SUMMARY:Wernick Method Jam Class with Ira Gitlin - College Park
DESCRIPTION:Taught by Ira Gitlin using the Wernick Method\n\n\n\n\nCollege Park\, MD \nPrivate residence in the DC suburbs; address provided upon registration \n3/9/2025 to 3/30/2025 on Sundays\, 1:00-5:00pm \nTuition: $200 for 4 sessions \nRegistration is HERE
URL:https://marylandbluegrass.com/event/wernick-method-jam-class-with-ira-gitlin-college-park/2025-03-30/
LOCATION:MD
END:VEVENT
BEGIN:VEVENT
DTSTART;TZID=America/New_York:20250331T190000
DTEND;TZID=America/New_York:20250331T210000
DTSTAMP:20260420T091818
CREATED:20250207T133528Z
LAST-MODIFIED:20250228T142952Z
UID:10000897-1743447600-1743454800@marylandbluegrass.com
SUMMARY:Liquidity Aleworks Bluegrass Jam - Mt Airy
DESCRIPTION:An open bluegrass jam at Liquidity Aleworks in Mount Airy\, MD! Hosted by Bianca Bentz and Jason Hannan. Open and encouraging to all skill levels! \n \nhttps://www.facebook.com/events/999863598428361/1122166306198089
URL:https://marylandbluegrass.com/event/liquidity-aleworks-bluegrass-jam-mt-airy/2025-03-31/
LOCATION:Liquidity Aleworks\, 8 N Main St\, Mt Airy\, MD\, 21771\, United States
CATEGORIES:Bluegrass Jams
GEO:39.3775048;-77.1542234
X-APPLE-STRUCTURED-LOCATION;VALUE=URI;X-ADDRESS=Liquidity Aleworks 8 N Main St Mt Airy MD 21771 United States;X-APPLE-RADIUS=500;X-TITLE=8 N Main St:geo:-77.1542234,39.3775048
END:VEVENT
BEGIN:VEVENT
DTSTART;TZID=America/New_York:20250401T180000
DTEND;TZID=America/New_York:20250401T200000
DTSTAMP:20260420T091818
CREATED:20250228T142850Z
LAST-MODIFIED:20250326T141212Z
UID:10002049-1743530400-1743537600@marylandbluegrass.com
SUMMARY:Bluegrass Tuesdays with the Clendenen Brothers - Hagerstown
DESCRIPTION:https://www.facebook.com/events/996398859205771/1004885515023772
URL:https://marylandbluegrass.com/event/bluegrass-tuesdays-with-the-clendenen-brothers-hagerstown/2025-04-01/
LOCATION:Thick N Thin Brewing Co.\, 18330 Spark Drive\, Hagerstown\, MD\, 21740\, United States
GEO:39.6018196;-77.7338475
X-APPLE-STRUCTURED-LOCATION;VALUE=URI;X-ADDRESS=Thick N Thin Brewing Co. 18330 Spark Drive Hagerstown MD 21740 United States;X-APPLE-RADIUS=500;X-TITLE=18330 Spark Drive:geo:-77.7338475,39.6018196
END:VEVENT
BEGIN:VEVENT
DTSTART;TZID=America/New_York:20250401T183000
DTEND;TZID=America/New_York:20250401T220000
DTSTAMP:20260420T091818
CREATED:20250204T215105Z
LAST-MODIFIED:20250207T132416Z
UID:10000013-1743532200-1743544800@marylandbluegrass.com
SUMMARY:Bluegrass Jam - Severn
DESCRIPTION:This jam is on the 1st and 3rd Tuesday of each month. \nAll Bluegrass Instruments are welcome. \nAll skill levels are welcome.
URL:https://marylandbluegrass.com/event/bluegrass-jam-severn-3/2025-04-01/
LOCATION:American Legion – Howard L Turner Post 276\, 8068 Quarterfield Road\, Severn\, MD\, 21144\, United States
CATEGORIES:Bluegrass Jams
GEO:39.1291651;-76.6655065
X-APPLE-STRUCTURED-LOCATION;VALUE=URI;X-ADDRESS=American Legion – Howard L Turner Post 276 8068 Quarterfield Road Severn MD 21144 United States;X-APPLE-RADIUS=500;X-TITLE=8068 Quarterfield Road:geo:-76.6655065,39.1291651
END:VEVENT
BEGIN:VEVENT
DTSTART;TZID=America/New_York:20250403T190000
DTEND;TZID=America/New_York:20250403T210000
DTSTAMP:20260420T091818
CREATED:20250207T133051Z
LAST-MODIFIED:20250219T164118Z
UID:10000256-1743706800-1743714000@marylandbluegrass.com
SUMMARY:Bluegrass Night Bentztown - Frederick
DESCRIPTION:Every Thursday Matthew Geiger and I (Jason Hannan) host an open bluegrass jam at Bentztown in Frederick\, MD! It’s a mic’ed\, performance style jam in front of an appreciative audience and is open to all levels of musicians. Bentztown has terrific food and also has great drink specials for Thursday nights! Bring an instrument and join the fun or just hang out and listen!!
URL:https://marylandbluegrass.com/event/bluegrass-night-bentztown-frederick/2025-04-03/
LOCATION:Bentztown\, 6 S Bentz St\, Frederick\, Maryland\, 21701
CATEGORIES:Bluegrass Jams
GEO:39.4133121;-77.4152042
X-APPLE-STRUCTURED-LOCATION;VALUE=URI;X-ADDRESS=Bentztown 6 S Bentz St Frederick Maryland 21701;X-APPLE-RADIUS=500;X-TITLE=6 S Bentz St:geo:-77.4152042,39.4133121
END:VEVENT
BEGIN:VEVENT
DTSTART;TZID=America/New_York:20250403T190000
DTEND;TZID=America/New_York:20250403T220000
DTSTAMP:20260420T091818
CREATED:20250208T143925Z
LAST-MODIFIED:20250228T141502Z
UID:10000511-1743706800-1743717600@marylandbluegrass.com
SUMMARY:Bluegrass Jams at Pickett - Baltimore
DESCRIPTION:https://facebook.com/events/s/bluegrass-jams-at-pickett-1st-/2023845478064528/
URL:https://marylandbluegrass.com/event/bluegrass-jams-at-pickett-baltimore-3/2025-04-03/
LOCATION:Pickett Brewing Company\, 1130 S Paca Street\, Baltimore\, MD\, 21230\, United States
CATEGORIES:Bluegrass Jams
GEO:39.278812;-76.627809
X-APPLE-STRUCTURED-LOCATION;VALUE=URI;X-ADDRESS=Pickett Brewing Company 1130 S Paca Street Baltimore MD 21230 United States;X-APPLE-RADIUS=500;X-TITLE=1130 S Paca Street:geo:-76.627809,39.278812
END:VEVENT
BEGIN:VEVENT
DTSTART;TZID=America/New_York:20250405T173000
DTEND;TZID=America/New_York:20250405T193000
DTSTAMP:20260420T091818
CREATED:20250303T124358Z
LAST-MODIFIED:20250303T124715Z
UID:10001976-1743874200-1743881400@marylandbluegrass.com
SUMMARY:Big Howdy Bluegrass Showcase - Rockville
DESCRIPTION:Music from host band Big Howdy\, with a different special guest every month \nhttp://www.bighowdyband.com
URL:https://marylandbluegrass.com/event/big-howdy-bluegrass-showcase-rockville/2025-04-05/
LOCATION:Hank Dietle’s Tavern\, 11010 Rockville Pike\, Rockville\, MD\, 20852\, United States
GEO:39.0388549;-77.1093343
X-APPLE-STRUCTURED-LOCATION;VALUE=URI;X-ADDRESS=Hank Dietle’s Tavern 11010 Rockville Pike Rockville MD 20852 United States;X-APPLE-RADIUS=500;X-TITLE=11010 Rockville Pike:geo:-77.1093343,39.0388549
END:VEVENT
BEGIN:VEVENT
DTSTART;TZID=America/New_York:20250406T000000
DTEND;TZID=America/New_York:20250406T235959
DTSTAMP:20260420T091818
CREATED:20250204T020000Z
LAST-MODIFIED:20250307T184912Z
UID:10002039-1743897600-1743983999@marylandbluegrass.com
SUMMARY:Wernick Method Jam Class with Ira Gitlin - College Park
DESCRIPTION:Taught by Ira Gitlin using the Wernick Method\n\n\n\n\nCollege Park\, MD \nPrivate residence in the DC suburbs; address provided upon registration \n3/9/2025 to 3/30/2025 on Sundays\, 1:00-5:00pm \nTuition: $200 for 4 sessions \nRegistration is HERE
URL:https://marylandbluegrass.com/event/wernick-method-jam-class-with-ira-gitlin-college-park/2025-04-06/
LOCATION:MD
END:VEVENT
BEGIN:VEVENT
DTSTART;TZID=America/New_York:20250407T190000
DTEND;TZID=America/New_York:20250407T210000
DTSTAMP:20260420T091818
CREATED:20250207T133528Z
LAST-MODIFIED:20250228T142952Z
UID:10000898-1744052400-1744059600@marylandbluegrass.com
SUMMARY:Liquidity Aleworks Bluegrass Jam - Mt Airy
DESCRIPTION:An open bluegrass jam at Liquidity Aleworks in Mount Airy\, MD! Hosted by Bianca Bentz and Jason Hannan. Open and encouraging to all skill levels! \n \nhttps://www.facebook.com/events/999863598428361/1122166306198089
URL:https://marylandbluegrass.com/event/liquidity-aleworks-bluegrass-jam-mt-airy/2025-04-07/
LOCATION:Liquidity Aleworks\, 8 N Main St\, Mt Airy\, MD\, 21771\, United States
CATEGORIES:Bluegrass Jams
GEO:39.3775048;-77.1542234
X-APPLE-STRUCTURED-LOCATION;VALUE=URI;X-ADDRESS=Liquidity Aleworks 8 N Main St Mt Airy MD 21771 United States;X-APPLE-RADIUS=500;X-TITLE=8 N Main St:geo:-77.1542234,39.3775048
END:VEVENT
BEGIN:VEVENT
DTSTART;TZID=America/New_York:20250408T180000
DTEND;TZID=America/New_York:20250408T200000
DTSTAMP:20260420T091818
CREATED:20250228T142850Z
LAST-MODIFIED:20250326T141212Z
UID:10002050-1744135200-1744142400@marylandbluegrass.com
SUMMARY:Bluegrass Tuesdays with the Clendenen Brothers - Hagerstown
DESCRIPTION:https://www.facebook.com/events/996398859205771/1004885515023772
URL:https://marylandbluegrass.com/event/bluegrass-tuesdays-with-the-clendenen-brothers-hagerstown/2025-04-08/
LOCATION:Thick N Thin Brewing Co.\, 18330 Spark Drive\, Hagerstown\, MD\, 21740\, United States
GEO:39.6018196;-77.7338475
X-APPLE-STRUCTURED-LOCATION;VALUE=URI;X-ADDRESS=Thick N Thin Brewing Co. 18330 Spark Drive Hagerstown MD 21740 United States;X-APPLE-RADIUS=500;X-TITLE=18330 Spark Drive:geo:-77.7338475,39.6018196
END:VEVENT
BEGIN:VEVENT
DTSTART;TZID=America/New_York:20250408T190000
DTEND;TZID=America/New_York:20250408T220000
DTSTAMP:20260420T091818
CREATED:20250706T145052Z
LAST-MODIFIED:20250706T145053Z
UID:10000191-1744138800-1744149600@marylandbluegrass.com
SUMMARY:Bluegrass Jam - Halethorpe
DESCRIPTION:This jam is on the 2nd and 4th Tuesday of each month. \nAll Bluegrass Instruments are welcome. \nAll skill levels are welcome.
URL:https://marylandbluegrass.com/event/bluegrass-jam-halethorpe-7/
LOCATION:American Legion – Dewey Lowman Post 109\, 1610 Old Sulphur Spring Road\, Halethorpe\, MD\, 21227\, United States
CATEGORIES:Bluegrass Jams
GEO:39.2520848;-76.6848051
X-APPLE-STRUCTURED-LOCATION;VALUE=URI;X-ADDRESS=American Legion – Dewey Lowman Post 109 1610 Old Sulphur Spring Road Halethorpe MD 21227 United States;X-APPLE-RADIUS=500;X-TITLE=1610 Old Sulphur Spring Road:geo:-76.6848051,39.2520848
END:VEVENT
BEGIN:VEVENT
DTSTART;TZID=America/New_York:20250408T190000
DTEND;TZID=America/New_York:20250408T220000
DTSTAMP:20260420T091818
CREATED:20250204T014947Z
LAST-MODIFIED:20250207T150745Z
UID:10001213-1744138800-1744149600@marylandbluegrass.com
SUMMARY:Annapolis Bluegrass Jam - Edgewater
DESCRIPTION:
URL:https://marylandbluegrass.com/event/annapolis-bluegrass-jam-2/2025-04-08/
LOCATION:Coconut Joe’s – Edgewater\, 48 S River Rd\, Edgewater\, MD\, 21037\, United States
CATEGORIES:Bluegrass Jams
GEO:38.9481161;-76.5543999
X-APPLE-STRUCTURED-LOCATION;VALUE=URI;X-ADDRESS=Coconut Joe’s – Edgewater 48 S River Rd Edgewater MD 21037 United States;X-APPLE-RADIUS=500;X-TITLE=48 S River Rd:geo:-76.5543999,38.9481161
END:VEVENT
BEGIN:VEVENT
DTSTART;TZID=America/New_York:20250410T190000
DTEND;TZID=America/New_York:20250410T210000
DTSTAMP:20260420T091818
CREATED:20250228T133124Z
LAST-MODIFIED:20250228T133124Z
UID:10001409-1744311600-1744318800@marylandbluegrass.com
SUMMARY:Bluegrass Slow Jam - Takoma Park
DESCRIPTION:https://schoolofmusicaltraditions.com/jams-open-mics/bluegrass-slow-jam/
URL:https://marylandbluegrass.com/event/bluegrass-slow-jam-takoma-park/2025-04-10/
LOCATION:School of Musical Traditions / Takoma SPARK\, 7112 Willow Ave\, Takoma Park\, MD\, 20912\, United States
GEO:38.9754503;-77.0134967
X-APPLE-STRUCTURED-LOCATION;VALUE=URI;X-ADDRESS=School of Musical Traditions / Takoma SPARK 7112 Willow Ave Takoma Park MD 20912 United States;X-APPLE-RADIUS=500;X-TITLE=7112 Willow Ave:geo:-77.0134967,38.9754503
END:VEVENT
BEGIN:VEVENT
DTSTART;TZID=America/New_York:20250410T190000
DTEND;TZID=America/New_York:20250410T210000
DTSTAMP:20260420T091818
CREATED:20250207T133051Z
LAST-MODIFIED:20250219T164118Z
UID:10000257-1744311600-1744318800@marylandbluegrass.com
SUMMARY:Bluegrass Night Bentztown - Frederick
DESCRIPTION:Every Thursday Matthew Geiger and I (Jason Hannan) host an open bluegrass jam at Bentztown in Frederick\, MD! It’s a mic’ed\, performance style jam in front of an appreciative audience and is open to all levels of musicians. Bentztown has terrific food and also has great drink specials for Thursday nights! Bring an instrument and join the fun or just hang out and listen!!
URL:https://marylandbluegrass.com/event/bluegrass-night-bentztown-frederick/2025-04-10/
LOCATION:Bentztown\, 6 S Bentz St\, Frederick\, Maryland\, 21701
CATEGORIES:Bluegrass Jams
GEO:39.4133121;-77.4152042
X-APPLE-STRUCTURED-LOCATION;VALUE=URI;X-ADDRESS=Bentztown 6 S Bentz St Frederick Maryland 21701;X-APPLE-RADIUS=500;X-TITLE=6 S Bentz St:geo:-77.4152042,39.4133121
END:VEVENT
BEGIN:VEVENT
DTSTART;TZID=America/New_York:20250413T130000
DTEND;TZID=America/New_York:20250413T160000
DTSTAMP:20260420T091818
CREATED:20250207T202624Z
LAST-MODIFIED:20250219T163859Z
UID:10001274-1744549200-1744560000@marylandbluegrass.com
SUMMARY:Billy Harrison & Haywire - Denton
DESCRIPTION:Sponsored by the Eastern Shore Bluegrass Association\nhttps://www.facebook.com/EasternShoreBluegrassAssociation/
URL:https://marylandbluegrass.com/event/billy-harrison-haywire-denton/
LOCATION:American Legion – Caroline Post 29\, 9238 Legion Road\, Denton\, Maryland\, 21629
CATEGORIES:Bluegrass Band
GEO:38.8611873;-75.8070709
X-APPLE-STRUCTURED-LOCATION;VALUE=URI;X-ADDRESS=American Legion – Caroline Post 29 9238 Legion Road Denton Maryland 21629;X-APPLE-RADIUS=500;X-TITLE=9238 Legion Road:geo:-75.8070709,38.8611873
END:VEVENT
BEGIN:VEVENT
DTSTART;TZID=America/New_York:20250413T140000
DTEND;TZID=America/New_York:20250413T170000
DTSTAMP:20260420T091818
CREATED:20250207T135119Z
LAST-MODIFIED:20250219T164157Z
UID:10001155-1744552800-1744563600@marylandbluegrass.com
SUMMARY:Bluegrass MeetUp - Middle River
DESCRIPTION:https://www.meetup.com/baltimore-bluegrass/
URL:https://marylandbluegrass.com/event/bluegrass-meetup/2025-04-13/
LOCATION:Victory Villa Community Center\, 404 Compass Rd E\, Middle River\, MD\, 21220\, United States
CATEGORIES:Bluegrass Jams
GEO:39.3369915;-76.4572253
X-APPLE-STRUCTURED-LOCATION;VALUE=URI;X-ADDRESS=Victory Villa Community Center 404 Compass Rd E Middle River MD 21220 United States;X-APPLE-RADIUS=500;X-TITLE=404 Compass Rd E:geo:-76.4572253,39.3369915
END:VEVENT
BEGIN:VEVENT
DTSTART;TZID=America/New_York:20250414T190000
DTEND;TZID=America/New_York:20250414T210000
DTSTAMP:20260420T091818
CREATED:20250207T133528Z
LAST-MODIFIED:20250228T142952Z
UID:10000899-1744657200-1744664400@marylandbluegrass.com
SUMMARY:Liquidity Aleworks Bluegrass Jam - Mt Airy
DESCRIPTION:An open bluegrass jam at Liquidity Aleworks in Mount Airy\, MD! Hosted by Bianca Bentz and Jason Hannan. Open and encouraging to all skill levels! \n \nhttps://www.facebook.com/events/999863598428361/1122166306198089
URL:https://marylandbluegrass.com/event/liquidity-aleworks-bluegrass-jam-mt-airy/2025-04-14/
LOCATION:Liquidity Aleworks\, 8 N Main St\, Mt Airy\, MD\, 21771\, United States
CATEGORIES:Bluegrass Jams
GEO:39.3775048;-77.1542234
X-APPLE-STRUCTURED-LOCATION;VALUE=URI;X-ADDRESS=Liquidity Aleworks 8 N Main St Mt Airy MD 21771 United States;X-APPLE-RADIUS=500;X-TITLE=8 N Main St:geo:-77.1542234,39.3775048
END:VEVENT
BEGIN:VEVENT
DTSTART;TZID=America/New_York:20250415T180000
DTEND;TZID=America/New_York:20250415T200000
DTSTAMP:20260420T091818
CREATED:20250228T142850Z
LAST-MODIFIED:20250326T141212Z
UID:10002051-1744740000-1744747200@marylandbluegrass.com
SUMMARY:Bluegrass Tuesdays with the Clendenen Brothers - Hagerstown
DESCRIPTION:https://www.facebook.com/events/996398859205771/1004885515023772
URL:https://marylandbluegrass.com/event/bluegrass-tuesdays-with-the-clendenen-brothers-hagerstown/2025-04-15/
LOCATION:Thick N Thin Brewing Co.\, 18330 Spark Drive\, Hagerstown\, MD\, 21740\, United States
GEO:39.6018196;-77.7338475
X-APPLE-STRUCTURED-LOCATION;VALUE=URI;X-ADDRESS=Thick N Thin Brewing Co. 18330 Spark Drive Hagerstown MD 21740 United States;X-APPLE-RADIUS=500;X-TITLE=18330 Spark Drive:geo:-77.7338475,39.6018196
END:VEVENT
BEGIN:VEVENT
DTSTART;TZID=America/New_York:20250415T183000
DTEND;TZID=America/New_York:20250415T220000
DTSTAMP:20260420T091818
CREATED:20250204T002124Z
LAST-MODIFIED:20250207T132525Z
UID:10000073-1744741800-1744754400@marylandbluegrass.com
SUMMARY:Bluegrass Jam - Severn
DESCRIPTION:This jam is on the 1st and 3rd Tuesday of each month. \nAll Bluegrass Instruments are welcome. \nAll skill levels are welcome.
URL:https://marylandbluegrass.com/event/bluegrass-jam-severn-2/2025-04-15/
LOCATION:American Legion – Howard L Turner Post 276\, 8068 Quarterfield Road\, Severn\, MD\, 21144\, United States
CATEGORIES:Bluegrass Jams
GEO:39.1291651;-76.6655065
X-APPLE-STRUCTURED-LOCATION;VALUE=URI;X-ADDRESS=American Legion – Howard L Turner Post 276 8068 Quarterfield Road Severn MD 21144 United States;X-APPLE-RADIUS=500;X-TITLE=8068 Quarterfield Road:geo:-76.6655065,39.1291651
END:VEVENT
BEGIN:VEVENT
DTSTART;TZID=America/New_York:20250416T180000
DTEND;TZID=America/New_York:20250416T210000
DTSTAMP:20260420T091818
CREATED:20250228T140410Z
LAST-MODIFIED:20250228T140514Z
UID:10001590-1744826400-1744837200@marylandbluegrass.com
SUMMARY:Bluegrass Jam - Upperco
DESCRIPTION:Upperco Volunteer Fire Company
URL:https://marylandbluegrass.com/event/bluegrass-jam-upperco-2/2025-04-16/
LOCATION:Upperco Volunteer Fire Company\, 16020 Carnival Ave\, Upperco\, MD\, 21155\, United States
GEO:39.5644613;-76.83581
X-APPLE-STRUCTURED-LOCATION;VALUE=URI;X-ADDRESS=Upperco Volunteer Fire Company 16020 Carnival Ave Upperco MD 21155 United States;X-APPLE-RADIUS=500;X-TITLE=16020 Carnival Ave:geo:-76.83581,39.5644613
END:VEVENT
BEGIN:VEVENT
DTSTART;TZID=America/New_York:20250417T190000
DTEND;TZID=America/New_York:20250417T210000
DTSTAMP:20260420T091818
CREATED:20250207T133051Z
LAST-MODIFIED:20250219T164118Z
UID:10000258-1744916400-1744923600@marylandbluegrass.com
SUMMARY:Bluegrass Night Bentztown - Frederick
DESCRIPTION:Every Thursday Matthew Geiger and I (Jason Hannan) host an open bluegrass jam at Bentztown in Frederick\, MD! It’s a mic’ed\, performance style jam in front of an appreciative audience and is open to all levels of musicians. Bentztown has terrific food and also has great drink specials for Thursday nights! Bring an instrument and join the fun or just hang out and listen!!
URL:https://marylandbluegrass.com/event/bluegrass-night-bentztown-frederick/2025-04-17/
LOCATION:Bentztown\, 6 S Bentz St\, Frederick\, Maryland\, 21701
CATEGORIES:Bluegrass Jams
GEO:39.4133121;-77.4152042
X-APPLE-STRUCTURED-LOCATION;VALUE=URI;X-ADDRESS=Bentztown 6 S Bentz St Frederick Maryland 21701;X-APPLE-RADIUS=500;X-TITLE=6 S Bentz St:geo:-77.4152042,39.4133121
END:VEVENT
BEGIN:VEVENT
DTSTART;TZID=America/New_York:20250417T190000
DTEND;TZID=America/New_York:20250417T220000
DTSTAMP:20260420T091818
CREATED:20250204T023421Z
LAST-MODIFIED:20250618T224113Z
UID:10000571-1744916400-1744927200@marylandbluegrass.com
SUMMARY:Bluegrass Jams at Pickett - Baltimore
DESCRIPTION:https://facebook.com/events/s/bluegrass-jams-at-pickett-1st-/2023845478064528/
URL:https://marylandbluegrass.com/event/bluegrass-jams-at-pickett-baltimore-2/2025-04-17/
LOCATION:Pickett Brewing Company\, 1130 S Paca Street\, Baltimore\, MD\, 21230\, United States
CATEGORIES:Bluegrass Jams
GEO:39.278812;-76.627809
X-APPLE-STRUCTURED-LOCATION;VALUE=URI;X-ADDRESS=Pickett Brewing Company 1130 S Paca Street Baltimore MD 21230 United States;X-APPLE-RADIUS=500;X-TITLE=1130 S Paca Street:geo:-76.627809,39.278812
END:VEVENT
BEGIN:VEVENT
DTSTART;TZID=America/New_York:20250419T190000
DTEND;TZID=America/New_York:20250419T220000
DTSTAMP:20260420T091818
CREATED:20250215T135901Z
LAST-MODIFIED:20250215T140151Z
UID:10001280-1745089200-1745100000@marylandbluegrass.com
SUMMARY:Cogar's Bluegrass & Country Night - Middle River
DESCRIPTION:https://www.facebook.com/groups/1394735081373465
URL:https://marylandbluegrass.com/event/cogars-bluegrass-country-night-middle-river/2025-04-19/
LOCATION:Victory Villa Community Center\, 404 Compass Rd E\, Middle River\, MD\, 21220\, United States
GEO:39.3369915;-76.4572253
X-APPLE-STRUCTURED-LOCATION;VALUE=URI;X-ADDRESS=Victory Villa Community Center 404 Compass Rd E Middle River MD 21220 United States;X-APPLE-RADIUS=500;X-TITLE=404 Compass Rd E:geo:-76.4572253,39.3369915
END:VEVENT
BEGIN:VEVENT
DTSTART;TZID=America/New_York:20250420T130000
DTEND;TZID=America/New_York:20250420T180000
DTSTAMP:20260420T091818
CREATED:20250420T144327Z
LAST-MODIFIED:20250420T144429Z
UID:10002373-1745154000-1745172000@marylandbluegrass.com
SUMMARY:Bluegrass Jam at Old Stone Cider - Lewisville\, PA
DESCRIPTION:All skill levels welcome\n20% off your OSC tab\nNo outside alcohol\nFood truck or bring your own food.
URL:https://marylandbluegrass.com/event/bluegrass-jam-at-old-stone-cider-lincoln-university-pa/
LOCATION:Old Stone Cider\, 959 Chesterville Rd\, Lewisville\, PA\, 19351\, United States
GEO:39.723924;-75.8742629
X-APPLE-STRUCTURED-LOCATION;VALUE=URI;X-ADDRESS=Old Stone Cider 959 Chesterville Rd Lewisville PA 19351 United States;X-APPLE-RADIUS=500;X-TITLE=959 Chesterville Rd:geo:-75.8742629,39.723924
END:VEVENT
BEGIN:VEVENT
DTSTART;TZID=America/New_York:20250421T190000
DTEND;TZID=America/New_York:20250421T210000
DTSTAMP:20260420T091818
CREATED:20250207T133528Z
LAST-MODIFIED:20250228T142952Z
UID:10000900-1745262000-1745269200@marylandbluegrass.com
SUMMARY:Liquidity Aleworks Bluegrass Jam - Mt Airy
DESCRIPTION:An open bluegrass jam at Liquidity Aleworks in Mount Airy\, MD! Hosted by Bianca Bentz and Jason Hannan. Open and encouraging to all skill levels! \n \nhttps://www.facebook.com/events/999863598428361/1122166306198089
URL:https://marylandbluegrass.com/event/liquidity-aleworks-bluegrass-jam-mt-airy/2025-04-21/
LOCATION:Liquidity Aleworks\, 8 N Main St\, Mt Airy\, MD\, 21771\, United States
CATEGORIES:Bluegrass Jams
GEO:39.3775048;-77.1542234
X-APPLE-STRUCTURED-LOCATION;VALUE=URI;X-ADDRESS=Liquidity Aleworks 8 N Main St Mt Airy MD 21771 United States;X-APPLE-RADIUS=500;X-TITLE=8 N Main St:geo:-77.1542234,39.3775048
END:VEVENT
BEGIN:VEVENT
DTSTART;TZID=America/New_York:20250422T180000
DTEND;TZID=America/New_York:20250422T200000
DTSTAMP:20260420T091818
CREATED:20250228T142850Z
LAST-MODIFIED:20250326T141212Z
UID:10002052-1745344800-1745352000@marylandbluegrass.com
SUMMARY:Bluegrass Tuesdays with the Clendenen Brothers - Hagerstown
DESCRIPTION:https://www.facebook.com/events/996398859205771/1004885515023772
URL:https://marylandbluegrass.com/event/bluegrass-tuesdays-with-the-clendenen-brothers-hagerstown/2025-04-22/
LOCATION:Thick N Thin Brewing Co.\, 18330 Spark Drive\, Hagerstown\, MD\, 21740\, United States
GEO:39.6018196;-77.7338475
X-APPLE-STRUCTURED-LOCATION;VALUE=URI;X-ADDRESS=Thick N Thin Brewing Co. 18330 Spark Drive Hagerstown MD 21740 United States;X-APPLE-RADIUS=500;X-TITLE=18330 Spark Drive:geo:-77.7338475,39.6018196
END:VEVENT
BEGIN:VEVENT
DTSTART;TZID=America/New_York:20250422T190000
DTEND;TZID=America/New_York:20250422T220000
DTSTAMP:20260420T091818
CREATED:20250204T002034Z
LAST-MODIFIED:20250207T132553Z
UID:10000132-1745348400-1745359200@marylandbluegrass.com
SUMMARY:Bluegrass Jam - HaleThorpe
DESCRIPTION:This jam is on the 2nd and 4th Tuesday of each month. \nAll Bluegrass Instruments are welcome. \nAll skill levels are welcome.
URL:https://marylandbluegrass.com/event/bluegrass-jam-halethorpe-2/2025-04-22/
LOCATION:American Legion – Dewey Lowman Post 109\, 1610 Old Sulphur Spring Road\, Halethorpe\, MD\, 21227\, United States
CATEGORIES:Bluegrass Jams
GEO:39.2520848;-76.6848051
X-APPLE-STRUCTURED-LOCATION;VALUE=URI;X-ADDRESS=American Legion – Dewey Lowman Post 109 1610 Old Sulphur Spring Road Halethorpe MD 21227 United States;X-APPLE-RADIUS=500;X-TITLE=1610 Old Sulphur Spring Road:geo:-76.6848051,39.2520848
END:VEVENT
BEGIN:VEVENT
DTSTART;TZID=America/New_York:20250424T173000
DTEND;TZID=America/New_York:20250424T193000
DTSTAMP:20260420T091818
CREATED:20250221T112934Z
LAST-MODIFIED:20250406T225631Z
UID:10002313-1745515800-1745523000@marylandbluegrass.com
SUMMARY:Broadneck Library Bluegrass Jam - Arnold
DESCRIPTION:Come jam with us at the library! Our traditional bluegrass jam is both for folks new to bluegrass music interested in learning its standards and those with more experience seeking to develop deeper knowledge of tunes commonly played. This group meets monthly for a no-pressure structured jam with 6-8 featured songs followed by an open jam. For questions or to receive details on our monthly song selections\, reach out to broadneckbluegrassjamcircle@gmail.com.\nTo preserve a traditional bluegrass sound\, please only bring acoustic stringed instruments. \nhttps://www.aacpl.net/event/beginners-bluegrass-jam-170488
URL:https://marylandbluegrass.com/event/library-jam-annapolis/2025-04-24/
LOCATION:Anne Arundel County Library (Broadneck)\, 1275 Green Holly Drive\, Annapolis\, MD\, 21409\, United States
GEO:39.0366244;-76.4542971
X-APPLE-STRUCTURED-LOCATION;VALUE=URI;X-ADDRESS=Anne Arundel County Library (Broadneck) 1275 Green Holly Drive Annapolis MD 21409 United States;X-APPLE-RADIUS=500;X-TITLE=1275 Green Holly Drive:geo:-76.4542971,39.0366244
END:VEVENT
BEGIN:VEVENT
DTSTART;TZID=America/New_York:20250424T190000
DTEND;TZID=America/New_York:20250424T210000
DTSTAMP:20260420T091818
CREATED:20250228T140100Z
LAST-MODIFIED:20250228T140100Z
UID:10001531-1745521200-1745528400@marylandbluegrass.com
SUMMARY:Bluegrass Slow Jam - Takoma Park
DESCRIPTION:https://schoolofmusicaltraditions.com/jams-open-mics/bluegrass-slow-jam/
URL:https://marylandbluegrass.com/event/bluegrass-slow-jam-takoma-park-2/2025-04-24/
LOCATION:School of Musical Traditions / Takoma SPARK\, 7112 Willow Ave\, Takoma Park\, MD\, 20912\, United States
GEO:38.9754503;-77.0134967
X-APPLE-STRUCTURED-LOCATION;VALUE=URI;X-ADDRESS=School of Musical Traditions / Takoma SPARK 7112 Willow Ave Takoma Park MD 20912 United States;X-APPLE-RADIUS=500;X-TITLE=7112 Willow Ave:geo:-77.0134967,38.9754503
END:VEVENT
END:VCALENDAR