BEGIN:VCALENDAR
VERSION:2.0
PRODID:-//Maryland Bluegrass - ECPv6.15.20//NONSGML v1.0//EN
CALSCALE:GREGORIAN
METHOD:PUBLISH
X-ORIGINAL-URL:https://marylandbluegrass.com
X-WR-CALDESC:Events for Maryland Bluegrass
REFRESH-INTERVAL;VALUE=DURATION:PT1H
X-Robots-Tag:noindex
X-PUBLISHED-TTL:PT1H
BEGIN:VTIMEZONE
TZID:America/New_York
BEGIN:DAYLIGHT
TZOFFSETFROM:-0500
TZOFFSETTO:-0400
TZNAME:EDT
DTSTART:20240310T070000
END:DAYLIGHT
BEGIN:STANDARD
TZOFFSETFROM:-0400
TZOFFSETTO:-0500
TZNAME:EST
DTSTART:20241103T060000
END:STANDARD
BEGIN:DAYLIGHT
TZOFFSETFROM:-0500
TZOFFSETTO:-0400
TZNAME:EDT
DTSTART:20250309T070000
END:DAYLIGHT
BEGIN:STANDARD
TZOFFSETFROM:-0400
TZOFFSETTO:-0500
TZNAME:EST
DTSTART:20251102T060000
END:STANDARD
BEGIN:DAYLIGHT
TZOFFSETFROM:-0500
TZOFFSETTO:-0400
TZNAME:EDT
DTSTART:20260308T070000
END:DAYLIGHT
BEGIN:STANDARD
TZOFFSETFROM:-0400
TZOFFSETTO:-0500
TZNAME:EST
DTSTART:20261101T060000
END:STANDARD
END:VTIMEZONE
BEGIN:VEVENT
DTSTART;TZID=America/New_York:20250503T173000
DTEND;TZID=America/New_York:20250503T193000
DTSTAMP:20260421T131923
CREATED:20250303T124358Z
LAST-MODIFIED:20250303T124715Z
UID:10001977-1746293400-1746300600@marylandbluegrass.com
SUMMARY:Big Howdy Bluegrass Showcase - Rockville
DESCRIPTION:Music from host band Big Howdy\, with a different special guest every month \nhttp://www.bighowdyband.com
URL:https://marylandbluegrass.com/event/big-howdy-bluegrass-showcase-rockville/2025-05-03/
LOCATION:Hank Dietle’s Tavern\, 11010 Rockville Pike\, Rockville\, MD\, 20852\, United States
GEO:39.0388549;-77.1093343
X-APPLE-STRUCTURED-LOCATION;VALUE=URI;X-ADDRESS=Hank Dietle’s Tavern 11010 Rockville Pike Rockville MD 20852 United States;X-APPLE-RADIUS=500;X-TITLE=11010 Rockville Pike:geo:-77.1093343,39.0388549
END:VEVENT
BEGIN:VEVENT
DTSTART;TZID=America/New_York:20250505T190000
DTEND;TZID=America/New_York:20250505T210000
DTSTAMP:20260421T131923
CREATED:20250207T133528Z
LAST-MODIFIED:20250228T142952Z
UID:10000902-1746471600-1746478800@marylandbluegrass.com
SUMMARY:Liquidity Aleworks Bluegrass Jam - Mt Airy
DESCRIPTION:An open bluegrass jam at Liquidity Aleworks in Mount Airy\, MD! Hosted by Bianca Bentz and Jason Hannan. Open and encouraging to all skill levels! \n \nhttps://www.facebook.com/events/999863598428361/1122166306198089
URL:https://marylandbluegrass.com/event/liquidity-aleworks-bluegrass-jam-mt-airy/2025-05-05/
LOCATION:Liquidity Aleworks\, 8 N Main St\, Mt Airy\, MD\, 21771\, United States
CATEGORIES:Bluegrass Jams
GEO:39.3775048;-77.1542234
X-APPLE-STRUCTURED-LOCATION;VALUE=URI;X-ADDRESS=Liquidity Aleworks 8 N Main St Mt Airy MD 21771 United States;X-APPLE-RADIUS=500;X-TITLE=8 N Main St:geo:-77.1542234,39.3775048
END:VEVENT
BEGIN:VEVENT
DTSTART;TZID=America/New_York:20250506T180000
DTEND;TZID=America/New_York:20250506T200000
DTSTAMP:20260421T131923
CREATED:20250228T142850Z
LAST-MODIFIED:20250326T141212Z
UID:10002054-1746554400-1746561600@marylandbluegrass.com
SUMMARY:Bluegrass Tuesdays with the Clendenen Brothers - Hagerstown
DESCRIPTION:https://www.facebook.com/events/996398859205771/1004885515023772
URL:https://marylandbluegrass.com/event/bluegrass-tuesdays-with-the-clendenen-brothers-hagerstown/2025-05-06/
LOCATION:Thick N Thin Brewing Co.\, 18330 Spark Drive\, Hagerstown\, MD\, 21740\, United States
GEO:39.6018196;-77.7338475
X-APPLE-STRUCTURED-LOCATION;VALUE=URI;X-ADDRESS=Thick N Thin Brewing Co. 18330 Spark Drive Hagerstown MD 21740 United States;X-APPLE-RADIUS=500;X-TITLE=18330 Spark Drive:geo:-77.7338475,39.6018196
END:VEVENT
BEGIN:VEVENT
DTSTART;TZID=America/New_York:20250506T183000
DTEND;TZID=America/New_York:20250506T220000
DTSTAMP:20260421T131923
CREATED:20250204T215105Z
LAST-MODIFIED:20250207T132416Z
UID:10000014-1746556200-1746568800@marylandbluegrass.com
SUMMARY:Bluegrass Jam - Severn
DESCRIPTION:This jam is on the 1st and 3rd Tuesday of each month. \nAll Bluegrass Instruments are welcome. \nAll skill levels are welcome.
URL:https://marylandbluegrass.com/event/bluegrass-jam-severn-3/2025-05-06/
LOCATION:American Legion – Howard L Turner Post 276\, 8068 Quarterfield Road\, Severn\, MD\, 21144\, United States
CATEGORIES:Bluegrass Jams
GEO:39.1291651;-76.6655065
X-APPLE-STRUCTURED-LOCATION;VALUE=URI;X-ADDRESS=American Legion – Howard L Turner Post 276 8068 Quarterfield Road Severn MD 21144 United States;X-APPLE-RADIUS=500;X-TITLE=8068 Quarterfield Road:geo:-76.6655065,39.1291651
END:VEVENT
BEGIN:VEVENT
DTSTART;TZID=America/New_York:20250508T190000
DTEND;TZID=America/New_York:20250508T210000
DTSTAMP:20260421T131923
CREATED:20250228T133124Z
LAST-MODIFIED:20250228T133124Z
UID:10001410-1746730800-1746738000@marylandbluegrass.com
SUMMARY:Bluegrass Slow Jam - Takoma Park
DESCRIPTION:https://schoolofmusicaltraditions.com/jams-open-mics/bluegrass-slow-jam/
URL:https://marylandbluegrass.com/event/bluegrass-slow-jam-takoma-park/2025-05-08/
LOCATION:School of Musical Traditions / Takoma SPARK\, 7112 Willow Ave\, Takoma Park\, MD\, 20912\, United States
GEO:38.9754503;-77.0134967
X-APPLE-STRUCTURED-LOCATION;VALUE=URI;X-ADDRESS=School of Musical Traditions / Takoma SPARK 7112 Willow Ave Takoma Park MD 20912 United States;X-APPLE-RADIUS=500;X-TITLE=7112 Willow Ave:geo:-77.0134967,38.9754503
END:VEVENT
BEGIN:VEVENT
DTSTART;TZID=America/New_York:20250508T190000
DTEND;TZID=America/New_York:20250508T210000
DTSTAMP:20260421T131923
CREATED:20250207T133051Z
LAST-MODIFIED:20250219T164118Z
UID:10000261-1746730800-1746738000@marylandbluegrass.com
SUMMARY:Bluegrass Night Bentztown - Frederick
DESCRIPTION:Every Thursday Matthew Geiger and I (Jason Hannan) host an open bluegrass jam at Bentztown in Frederick\, MD! It’s a mic’ed\, performance style jam in front of an appreciative audience and is open to all levels of musicians. Bentztown has terrific food and also has great drink specials for Thursday nights! Bring an instrument and join the fun or just hang out and listen!!
URL:https://marylandbluegrass.com/event/bluegrass-night-bentztown-frederick/2025-05-08/
LOCATION:Bentztown\, 6 S Bentz St\, Frederick\, Maryland\, 21701
CATEGORIES:Bluegrass Jams
GEO:39.4133121;-77.4152042
X-APPLE-STRUCTURED-LOCATION;VALUE=URI;X-ADDRESS=Bentztown 6 S Bentz St Frederick Maryland 21701;X-APPLE-RADIUS=500;X-TITLE=6 S Bentz St:geo:-77.4152042,39.4133121
END:VEVENT
BEGIN:VEVENT
DTSTART;TZID=America/New_York:20250511T140000
DTEND;TZID=America/New_York:20250511T170000
DTSTAMP:20260421T131923
CREATED:20250207T135119Z
LAST-MODIFIED:20250219T164157Z
UID:10001156-1746972000-1746982800@marylandbluegrass.com
SUMMARY:Bluegrass MeetUp - Middle River
DESCRIPTION:https://www.meetup.com/baltimore-bluegrass/
URL:https://marylandbluegrass.com/event/bluegrass-meetup/2025-05-11/
LOCATION:Victory Villa Community Center\, 404 Compass Rd E\, Middle River\, MD\, 21220\, United States
CATEGORIES:Bluegrass Jams
GEO:39.3369915;-76.4572253
X-APPLE-STRUCTURED-LOCATION;VALUE=URI;X-ADDRESS=Victory Villa Community Center 404 Compass Rd E Middle River MD 21220 United States;X-APPLE-RADIUS=500;X-TITLE=404 Compass Rd E:geo:-76.4572253,39.3369915
END:VEVENT
BEGIN:VEVENT
DTSTART;TZID=America/New_York:20250512T190000
DTEND;TZID=America/New_York:20250512T210000
DTSTAMP:20260421T131923
CREATED:20250207T133528Z
LAST-MODIFIED:20250228T142952Z
UID:10000903-1747076400-1747083600@marylandbluegrass.com
SUMMARY:Liquidity Aleworks Bluegrass Jam - Mt Airy
DESCRIPTION:An open bluegrass jam at Liquidity Aleworks in Mount Airy\, MD! Hosted by Bianca Bentz and Jason Hannan. Open and encouraging to all skill levels! \n \nhttps://www.facebook.com/events/999863598428361/1122166306198089
URL:https://marylandbluegrass.com/event/liquidity-aleworks-bluegrass-jam-mt-airy/2025-05-12/
LOCATION:Liquidity Aleworks\, 8 N Main St\, Mt Airy\, MD\, 21771\, United States
CATEGORIES:Bluegrass Jams
GEO:39.3775048;-77.1542234
X-APPLE-STRUCTURED-LOCATION;VALUE=URI;X-ADDRESS=Liquidity Aleworks 8 N Main St Mt Airy MD 21771 United States;X-APPLE-RADIUS=500;X-TITLE=8 N Main St:geo:-77.1542234,39.3775048
END:VEVENT
BEGIN:VEVENT
DTSTART;TZID=America/New_York:20250513T180000
DTEND;TZID=America/New_York:20250513T200000
DTSTAMP:20260421T131923
CREATED:20250228T142850Z
LAST-MODIFIED:20250326T141212Z
UID:10002055-1747159200-1747166400@marylandbluegrass.com
SUMMARY:Bluegrass Tuesdays with the Clendenen Brothers - Hagerstown
DESCRIPTION:https://www.facebook.com/events/996398859205771/1004885515023772
URL:https://marylandbluegrass.com/event/bluegrass-tuesdays-with-the-clendenen-brothers-hagerstown/2025-05-13/
LOCATION:Thick N Thin Brewing Co.\, 18330 Spark Drive\, Hagerstown\, MD\, 21740\, United States
GEO:39.6018196;-77.7338475
X-APPLE-STRUCTURED-LOCATION;VALUE=URI;X-ADDRESS=Thick N Thin Brewing Co. 18330 Spark Drive Hagerstown MD 21740 United States;X-APPLE-RADIUS=500;X-TITLE=18330 Spark Drive:geo:-77.7338475,39.6018196
END:VEVENT
BEGIN:VEVENT
DTSTART;TZID=America/New_York:20250513T190000
DTEND;TZID=America/New_York:20250513T220000
DTSTAMP:20260421T131923
CREATED:20250706T145024Z
LAST-MODIFIED:20250827T144559Z
UID:10000192-1747162800-1747173600@marylandbluegrass.com
SUMMARY:Bluegrass Jam - Halethorpe
DESCRIPTION:This jam is on the 2nd and 4th Tuesday of each month. \nAll Bluegrass Instruments are welcome. \nAll skill levels are welcome.
URL:https://marylandbluegrass.com/event/bluegrass-jam-halethorpe-6/
LOCATION:American Legion – Dewey Lowman Post 109\, 1610 Old Sulphur Spring Road\, Halethorpe\, MD\, 21227\, United States
CATEGORIES:Bluegrass Jams
GEO:39.2520848;-76.6848051
X-APPLE-STRUCTURED-LOCATION;VALUE=URI;X-ADDRESS=American Legion – Dewey Lowman Post 109 1610 Old Sulphur Spring Road Halethorpe MD 21227 United States;X-APPLE-RADIUS=500;X-TITLE=1610 Old Sulphur Spring Road:geo:-76.6848051,39.2520848
END:VEVENT
BEGIN:VEVENT
DTSTART;TZID=America/New_York:20250513T190000
DTEND;TZID=America/New_York:20250513T220000
DTSTAMP:20260421T131923
CREATED:20250204T014947Z
LAST-MODIFIED:20250207T150745Z
UID:10001214-1747162800-1747173600@marylandbluegrass.com
SUMMARY:Annapolis Bluegrass Jam - Edgewater
DESCRIPTION:
URL:https://marylandbluegrass.com/event/annapolis-bluegrass-jam-2/2025-05-13/
LOCATION:Coconut Joe’s – Edgewater\, 48 S River Rd\, Edgewater\, MD\, 21037\, United States
CATEGORIES:Bluegrass Jams
GEO:38.9481161;-76.5543999
X-APPLE-STRUCTURED-LOCATION;VALUE=URI;X-ADDRESS=Coconut Joe’s – Edgewater 48 S River Rd Edgewater MD 21037 United States;X-APPLE-RADIUS=500;X-TITLE=48 S River Rd:geo:-76.5543999,38.9481161
END:VEVENT
BEGIN:VEVENT
DTSTART;TZID=America/New_York:20250515T190000
DTEND;TZID=America/New_York:20250515T210000
DTSTAMP:20260421T131923
CREATED:20250207T133051Z
LAST-MODIFIED:20250219T164118Z
UID:10000262-1747335600-1747342800@marylandbluegrass.com
SUMMARY:Bluegrass Night Bentztown - Frederick
DESCRIPTION:Every Thursday Matthew Geiger and I (Jason Hannan) host an open bluegrass jam at Bentztown in Frederick\, MD! It’s a mic’ed\, performance style jam in front of an appreciative audience and is open to all levels of musicians. Bentztown has terrific food and also has great drink specials for Thursday nights! Bring an instrument and join the fun or just hang out and listen!!
URL:https://marylandbluegrass.com/event/bluegrass-night-bentztown-frederick/2025-05-15/
LOCATION:Bentztown\, 6 S Bentz St\, Frederick\, Maryland\, 21701
CATEGORIES:Bluegrass Jams
GEO:39.4133121;-77.4152042
X-APPLE-STRUCTURED-LOCATION;VALUE=URI;X-ADDRESS=Bentztown 6 S Bentz St Frederick Maryland 21701;X-APPLE-RADIUS=500;X-TITLE=6 S Bentz St:geo:-77.4152042,39.4133121
END:VEVENT
BEGIN:VEVENT
DTSTART;TZID=America/New_York:20250515T190000
DTEND;TZID=America/New_York:20250515T220000
DTSTAMP:20260421T131923
CREATED:20250204T023421Z
LAST-MODIFIED:20250618T224113Z
UID:10000572-1747335600-1747346400@marylandbluegrass.com
SUMMARY:Bluegrass Jams at Pickett - Baltimore
DESCRIPTION:https://facebook.com/events/s/bluegrass-jams-at-pickett-1st-/2023845478064528/
URL:https://marylandbluegrass.com/event/bluegrass-jams-at-pickett-baltimore-2/2025-05-15/
LOCATION:Pickett Brewing Company\, 1130 S Paca Street\, Baltimore\, MD\, 21230\, United States
CATEGORIES:Bluegrass Jams
GEO:39.278812;-76.627809
X-APPLE-STRUCTURED-LOCATION;VALUE=URI;X-ADDRESS=Pickett Brewing Company 1130 S Paca Street Baltimore MD 21230 United States;X-APPLE-RADIUS=500;X-TITLE=1130 S Paca Street:geo:-76.627809,39.278812
END:VEVENT
BEGIN:VEVENT
DTSTART;TZID=America/New_York:20250517T110000
DTEND;TZID=America/New_York:20250517T220000
DTSTAMP:20260421T131923
CREATED:20250314T201548Z
LAST-MODIFIED:20250314T201804Z
UID:10002042-1747479600-1747519200@marylandbluegrass.com
SUMMARY:Music City Bluegrass & Roots Festival
DESCRIPTION:Join us on Saturday\, May 17\, 2025\, from 11:00 AM to 10:00 PM at The Vortex at CAA Park for an unforgettable day of music\, food\, and fun! \nPlease see website for ticket pricing. \nLineup \nFeaturing: \n\nDan Tyminski Band\nSicard Hollow\nEast Nash Grass\nDanny Paisley and the Southern Grass\nDirty Grass Players\nGeraldine\nBy & By\nHigh and Wides\nDawg & Dell\nSeneca Creek\nRock Creek Revival\n\n 
URL:https://marylandbluegrass.com/event/music-city-bluegrass-roots-festival/
LOCATION:The Vortex at CAA Park\, 202 Ingleside Ave\, Catonsville\, MD\, 21228\, United States
CATEGORIES:Bluegrass Festivals
GEO:39.273962;-76.730362
X-APPLE-STRUCTURED-LOCATION;VALUE=URI;X-ADDRESS=The Vortex at CAA Park 202 Ingleside Ave Catonsville MD 21228 United States;X-APPLE-RADIUS=500;X-TITLE=202 Ingleside Ave:geo:-76.730362,39.273962
END:VEVENT
BEGIN:VEVENT
DTSTART;TZID=America/New_York:20250517T190000
DTEND;TZID=America/New_York:20250517T220000
DTSTAMP:20260421T131923
CREATED:20250215T135901Z
LAST-MODIFIED:20250215T140151Z
UID:10001281-1747508400-1747519200@marylandbluegrass.com
SUMMARY:Cogar's Bluegrass & Country Night - Middle River
DESCRIPTION:https://www.facebook.com/groups/1394735081373465
URL:https://marylandbluegrass.com/event/cogars-bluegrass-country-night-middle-river/2025-05-17/
LOCATION:Victory Villa Community Center\, 404 Compass Rd E\, Middle River\, MD\, 21220\, United States
GEO:39.3369915;-76.4572253
X-APPLE-STRUCTURED-LOCATION;VALUE=URI;X-ADDRESS=Victory Villa Community Center 404 Compass Rd E Middle River MD 21220 United States;X-APPLE-RADIUS=500;X-TITLE=404 Compass Rd E:geo:-76.4572253,39.3369915
END:VEVENT
BEGIN:VEVENT
DTSTART;TZID=America/New_York:20250519T190000
DTEND;TZID=America/New_York:20250519T210000
DTSTAMP:20260421T131923
CREATED:20250207T133528Z
LAST-MODIFIED:20250228T142952Z
UID:10000904-1747681200-1747688400@marylandbluegrass.com
SUMMARY:Liquidity Aleworks Bluegrass Jam - Mt Airy
DESCRIPTION:An open bluegrass jam at Liquidity Aleworks in Mount Airy\, MD! Hosted by Bianca Bentz and Jason Hannan. Open and encouraging to all skill levels! \n \nhttps://www.facebook.com/events/999863598428361/1122166306198089
URL:https://marylandbluegrass.com/event/liquidity-aleworks-bluegrass-jam-mt-airy/2025-05-19/
LOCATION:Liquidity Aleworks\, 8 N Main St\, Mt Airy\, MD\, 21771\, United States
CATEGORIES:Bluegrass Jams
GEO:39.3775048;-77.1542234
X-APPLE-STRUCTURED-LOCATION;VALUE=URI;X-ADDRESS=Liquidity Aleworks 8 N Main St Mt Airy MD 21771 United States;X-APPLE-RADIUS=500;X-TITLE=8 N Main St:geo:-77.1542234,39.3775048
END:VEVENT
BEGIN:VEVENT
DTSTART;TZID=America/New_York:20250520T180000
DTEND;TZID=America/New_York:20250520T200000
DTSTAMP:20260421T131923
CREATED:20250228T142850Z
LAST-MODIFIED:20250326T141212Z
UID:10002056-1747764000-1747771200@marylandbluegrass.com
SUMMARY:Bluegrass Tuesdays with the Clendenen Brothers - Hagerstown
DESCRIPTION:https://www.facebook.com/events/996398859205771/1004885515023772
URL:https://marylandbluegrass.com/event/bluegrass-tuesdays-with-the-clendenen-brothers-hagerstown/2025-05-20/
LOCATION:Thick N Thin Brewing Co.\, 18330 Spark Drive\, Hagerstown\, MD\, 21740\, United States
GEO:39.6018196;-77.7338475
X-APPLE-STRUCTURED-LOCATION;VALUE=URI;X-ADDRESS=Thick N Thin Brewing Co. 18330 Spark Drive Hagerstown MD 21740 United States;X-APPLE-RADIUS=500;X-TITLE=18330 Spark Drive:geo:-77.7338475,39.6018196
END:VEVENT
BEGIN:VEVENT
DTSTART;TZID=America/New_York:20250520T183000
DTEND;TZID=America/New_York:20250520T220000
DTSTAMP:20260421T131923
CREATED:20250204T002124Z
LAST-MODIFIED:20250207T132525Z
UID:10000074-1747765800-1747778400@marylandbluegrass.com
SUMMARY:Bluegrass Jam - Severn
DESCRIPTION:This jam is on the 1st and 3rd Tuesday of each month. \nAll Bluegrass Instruments are welcome. \nAll skill levels are welcome.
URL:https://marylandbluegrass.com/event/bluegrass-jam-severn-2/2025-05-20/
LOCATION:American Legion – Howard L Turner Post 276\, 8068 Quarterfield Road\, Severn\, MD\, 21144\, United States
CATEGORIES:Bluegrass Jams
GEO:39.1291651;-76.6655065
X-APPLE-STRUCTURED-LOCATION;VALUE=URI;X-ADDRESS=American Legion – Howard L Turner Post 276 8068 Quarterfield Road Severn MD 21144 United States;X-APPLE-RADIUS=500;X-TITLE=8068 Quarterfield Road:geo:-76.6655065,39.1291651
END:VEVENT
BEGIN:VEVENT
DTSTART;TZID=America/New_York:20250521T180000
DTEND;TZID=America/New_York:20250521T210000
DTSTAMP:20260421T131923
CREATED:20250228T140410Z
LAST-MODIFIED:20250228T140514Z
UID:10001591-1747850400-1747861200@marylandbluegrass.com
SUMMARY:Bluegrass Jam - Upperco
DESCRIPTION:Upperco Volunteer Fire Company
URL:https://marylandbluegrass.com/event/bluegrass-jam-upperco-2/2025-05-21/
LOCATION:Upperco Volunteer Fire Company\, 16020 Carnival Ave\, Upperco\, MD\, 21155\, United States
GEO:39.5644613;-76.83581
X-APPLE-STRUCTURED-LOCATION;VALUE=URI;X-ADDRESS=Upperco Volunteer Fire Company 16020 Carnival Ave Upperco MD 21155 United States;X-APPLE-RADIUS=500;X-TITLE=16020 Carnival Ave:geo:-76.83581,39.5644613
END:VEVENT
BEGIN:VEVENT
DTSTART;TZID=America/New_York:20250522T173000
DTEND;TZID=America/New_York:20250522T193000
DTSTAMP:20260421T131923
CREATED:20250221T112934Z
LAST-MODIFIED:20250406T225631Z
UID:10002314-1747935000-1747942200@marylandbluegrass.com
SUMMARY:Broadneck Library Bluegrass Jam - Arnold
DESCRIPTION:Come jam with us at the library! Our traditional bluegrass jam is both for folks new to bluegrass music interested in learning its standards and those with more experience seeking to develop deeper knowledge of tunes commonly played. This group meets monthly for a no-pressure structured jam with 6-8 featured songs followed by an open jam. For questions or to receive details on our monthly song selections\, reach out to broadneckbluegrassjamcircle@gmail.com.\nTo preserve a traditional bluegrass sound\, please only bring acoustic stringed instruments. \nhttps://www.aacpl.net/event/beginners-bluegrass-jam-170488
URL:https://marylandbluegrass.com/event/library-jam-annapolis/2025-05-22/
LOCATION:Anne Arundel County Library (Broadneck)\, 1275 Green Holly Drive\, Annapolis\, MD\, 21409\, United States
GEO:39.0366244;-76.4542971
X-APPLE-STRUCTURED-LOCATION;VALUE=URI;X-ADDRESS=Anne Arundel County Library (Broadneck) 1275 Green Holly Drive Annapolis MD 21409 United States;X-APPLE-RADIUS=500;X-TITLE=1275 Green Holly Drive:geo:-76.4542971,39.0366244
END:VEVENT
BEGIN:VEVENT
DTSTART;TZID=America/New_York:20250522T190000
DTEND;TZID=America/New_York:20250522T210000
DTSTAMP:20260421T131923
CREATED:20250228T140100Z
LAST-MODIFIED:20250228T140100Z
UID:10001532-1747940400-1747947600@marylandbluegrass.com
SUMMARY:Bluegrass Slow Jam - Takoma Park
DESCRIPTION:https://schoolofmusicaltraditions.com/jams-open-mics/bluegrass-slow-jam/
URL:https://marylandbluegrass.com/event/bluegrass-slow-jam-takoma-park-2/2025-05-22/
LOCATION:School of Musical Traditions / Takoma SPARK\, 7112 Willow Ave\, Takoma Park\, MD\, 20912\, United States
GEO:38.9754503;-77.0134967
X-APPLE-STRUCTURED-LOCATION;VALUE=URI;X-ADDRESS=School of Musical Traditions / Takoma SPARK 7112 Willow Ave Takoma Park MD 20912 United States;X-APPLE-RADIUS=500;X-TITLE=7112 Willow Ave:geo:-77.0134967,38.9754503
END:VEVENT
BEGIN:VEVENT
DTSTART;TZID=America/New_York:20250522T190000
DTEND;TZID=America/New_York:20250522T210000
DTSTAMP:20260421T131923
CREATED:20250207T133051Z
LAST-MODIFIED:20250219T164118Z
UID:10000263-1747940400-1747947600@marylandbluegrass.com
SUMMARY:Bluegrass Night Bentztown - Frederick
DESCRIPTION:Every Thursday Matthew Geiger and I (Jason Hannan) host an open bluegrass jam at Bentztown in Frederick\, MD! It’s a mic’ed\, performance style jam in front of an appreciative audience and is open to all levels of musicians. Bentztown has terrific food and also has great drink specials for Thursday nights! Bring an instrument and join the fun or just hang out and listen!!
URL:https://marylandbluegrass.com/event/bluegrass-night-bentztown-frederick/2025-05-22/
LOCATION:Bentztown\, 6 S Bentz St\, Frederick\, Maryland\, 21701
CATEGORIES:Bluegrass Jams
GEO:39.4133121;-77.4152042
X-APPLE-STRUCTURED-LOCATION;VALUE=URI;X-ADDRESS=Bentztown 6 S Bentz St Frederick Maryland 21701;X-APPLE-RADIUS=500;X-TITLE=6 S Bentz St:geo:-77.4152042,39.4133121
END:VEVENT
BEGIN:VEVENT
DTSTART;TZID=America/New_York:20250525T130000
DTEND;TZID=America/New_York:20250525T140000
DTSTAMP:20260421T131923
CREATED:20250424T140109Z
LAST-MODIFIED:20250506T152907Z
UID:10002375-1748178000-1748181600@marylandbluegrass.com
SUMMARY:Bluegrass Repertoire Class - Takoma Park
DESCRIPTION:Each month multi-instrumentalist Justin Heath teaches a different song from the bluegrass repertoire. The class covers standard repertoire in depth with a focus on melody\, accompaniment\, lyrics\, kickoffs\, endings and tips for soloing. Learn everything you need to know to lead songs in jam sessions. All instruments and skill levels are welcome but you should have basic proficiency on your instrument to get the most out of the class.\nMaterials will be provided for guitar\, banjo\, fiddle\, and mandolin.\n \nLink to Square Event Page \n\nAges 12+\n \n\nREGISTRATION POLICY\nWe require a minimum of 3 attendees for all group classes & workshops. Classes will be cancelled if we have not met the 3-person minimum 72 hours in advance of the start time.\nIn the event of a cancellation\, you may choose between either (1) a full refund\, or (2) a full credit to private lessons or a future workshop.\n$30 per Session
URL:https://marylandbluegrass.com/event/bluegrass-repertoire-class-takoma-park/2025-05-25/
LOCATION:School of Musical Traditions / Takoma SPARK\, 7112 Willow Ave\, Takoma Park\, MD\, 20912\, United States
CATEGORIES:Bluegrass Classes
GEO:38.9754503;-77.0134967
X-APPLE-STRUCTURED-LOCATION;VALUE=URI;X-ADDRESS=School of Musical Traditions / Takoma SPARK 7112 Willow Ave Takoma Park MD 20912 United States;X-APPLE-RADIUS=500;X-TITLE=7112 Willow Ave:geo:-77.0134967,38.9754503
END:VEVENT
BEGIN:VEVENT
DTSTART;TZID=America/New_York:20250525T140000
DTEND;TZID=America/New_York:20250525T160000
DTSTAMP:20260421T131923
CREATED:20250228T141342Z
LAST-MODIFIED:20250427T151842Z
UID:10002496-1748181600-1748188800@marylandbluegrass.com
SUMMARY:Sandy Spring Bluegrass Jam - Sandy Spring
DESCRIPTION:https://www.facebook.com/events/606602108583865/606602148583861/
URL:https://marylandbluegrass.com/event/sandy-spring-bluegrass-jam-sandy-spring/2025-05-25/
LOCATION:Sandy Spring Museum\, 17901 Bentley Road\, Sandy Spring\, MD\, 20860\, United States
GEO:39.1495709;-77.0213295
X-APPLE-STRUCTURED-LOCATION;VALUE=URI;X-ADDRESS=Sandy Spring Museum 17901 Bentley Road Sandy Spring MD 20860 United States;X-APPLE-RADIUS=500;X-TITLE=17901 Bentley Road:geo:-77.0213295,39.1495709
END:VEVENT
BEGIN:VEVENT
DTSTART;TZID=America/New_York:20250526T190000
DTEND;TZID=America/New_York:20250526T210000
DTSTAMP:20260421T131923
CREATED:20250207T133528Z
LAST-MODIFIED:20250228T142952Z
UID:10000905-1748286000-1748293200@marylandbluegrass.com
SUMMARY:Liquidity Aleworks Bluegrass Jam - Mt Airy
DESCRIPTION:An open bluegrass jam at Liquidity Aleworks in Mount Airy\, MD! Hosted by Bianca Bentz and Jason Hannan. Open and encouraging to all skill levels! \n \nhttps://www.facebook.com/events/999863598428361/1122166306198089
URL:https://marylandbluegrass.com/event/liquidity-aleworks-bluegrass-jam-mt-airy/2025-05-26/
LOCATION:Liquidity Aleworks\, 8 N Main St\, Mt Airy\, MD\, 21771\, United States
CATEGORIES:Bluegrass Jams
GEO:39.3775048;-77.1542234
X-APPLE-STRUCTURED-LOCATION;VALUE=URI;X-ADDRESS=Liquidity Aleworks 8 N Main St Mt Airy MD 21771 United States;X-APPLE-RADIUS=500;X-TITLE=8 N Main St:geo:-77.1542234,39.3775048
END:VEVENT
BEGIN:VEVENT
DTSTART;TZID=America/New_York:20250527T180000
DTEND;TZID=America/New_York:20250527T200000
DTSTAMP:20260421T131923
CREATED:20250228T142850Z
LAST-MODIFIED:20250326T141212Z
UID:10002057-1748368800-1748376000@marylandbluegrass.com
SUMMARY:Bluegrass Tuesdays with the Clendenen Brothers - Hagerstown
DESCRIPTION:https://www.facebook.com/events/996398859205771/1004885515023772
URL:https://marylandbluegrass.com/event/bluegrass-tuesdays-with-the-clendenen-brothers-hagerstown/2025-05-27/
LOCATION:Thick N Thin Brewing Co.\, 18330 Spark Drive\, Hagerstown\, MD\, 21740\, United States
GEO:39.6018196;-77.7338475
X-APPLE-STRUCTURED-LOCATION;VALUE=URI;X-ADDRESS=Thick N Thin Brewing Co. 18330 Spark Drive Hagerstown MD 21740 United States;X-APPLE-RADIUS=500;X-TITLE=18330 Spark Drive:geo:-77.7338475,39.6018196
END:VEVENT
BEGIN:VEVENT
DTSTART;TZID=America/New_York:20250527T180000
DTEND;TZID=America/New_York:20250527T210000
DTSTAMP:20260421T131923
CREATED:20250219T163242Z
LAST-MODIFIED:20250424T141243Z
UID:10002435-1748368800-1748379600@marylandbluegrass.com
SUMMARY:Bluegrass Jam at Pherm Brewing Company
DESCRIPTION:Russ and AJ are back to host the monthly bluegrass jam. Normally on the last Tuesday of the month. \nBring an instrument out and jam or just come out to listen!
URL:https://marylandbluegrass.com/event/bluegrass-jam-at-pherm-brewing-company/2025-05-27/
LOCATION:Pherm Brewing Company\, 1041 MD-3\, Gambrills\, MD\, 21054\, United States
CATEGORIES:Bluegrass Jams
GEO:39.0276085;-76.6855756
X-APPLE-STRUCTURED-LOCATION;VALUE=URI;X-ADDRESS=Pherm Brewing Company 1041 MD-3 Gambrills MD 21054 United States;X-APPLE-RADIUS=500;X-TITLE=1041 MD-3:geo:-76.6855756,39.0276085
END:VEVENT
BEGIN:VEVENT
DTSTART;TZID=America/New_York:20250527T190000
DTEND;TZID=America/New_York:20250527T220000
DTSTAMP:20260421T131923
CREATED:20250204T002034Z
LAST-MODIFIED:20250207T132553Z
UID:10000133-1748372400-1748383200@marylandbluegrass.com
SUMMARY:Bluegrass Jam - HaleThorpe
DESCRIPTION:This jam is on the 2nd and 4th Tuesday of each month. \nAll Bluegrass Instruments are welcome. \nAll skill levels are welcome.
URL:https://marylandbluegrass.com/event/bluegrass-jam-halethorpe-2/2025-05-27/
LOCATION:American Legion – Dewey Lowman Post 109\, 1610 Old Sulphur Spring Road\, Halethorpe\, MD\, 21227\, United States
CATEGORIES:Bluegrass Jams
GEO:39.2520848;-76.6848051
X-APPLE-STRUCTURED-LOCATION;VALUE=URI;X-ADDRESS=American Legion – Dewey Lowman Post 109 1610 Old Sulphur Spring Road Halethorpe MD 21227 United States;X-APPLE-RADIUS=500;X-TITLE=1610 Old Sulphur Spring Road:geo:-76.6848051,39.2520848
END:VEVENT
BEGIN:VEVENT
DTSTART;TZID=America/New_York:20250529T190000
DTEND;TZID=America/New_York:20250529T210000
DTSTAMP:20260421T131923
CREATED:20250207T133051Z
LAST-MODIFIED:20250219T164118Z
UID:10000264-1748545200-1748552400@marylandbluegrass.com
SUMMARY:Bluegrass Night Bentztown - Frederick
DESCRIPTION:Every Thursday Matthew Geiger and I (Jason Hannan) host an open bluegrass jam at Bentztown in Frederick\, MD! It’s a mic’ed\, performance style jam in front of an appreciative audience and is open to all levels of musicians. Bentztown has terrific food and also has great drink specials for Thursday nights! Bring an instrument and join the fun or just hang out and listen!!
URL:https://marylandbluegrass.com/event/bluegrass-night-bentztown-frederick/2025-05-29/
LOCATION:Bentztown\, 6 S Bentz St\, Frederick\, Maryland\, 21701
CATEGORIES:Bluegrass Jams
GEO:39.4133121;-77.4152042
X-APPLE-STRUCTURED-LOCATION;VALUE=URI;X-ADDRESS=Bentztown 6 S Bentz St Frederick Maryland 21701;X-APPLE-RADIUS=500;X-TITLE=6 S Bentz St:geo:-77.4152042,39.4133121
END:VEVENT
BEGIN:VEVENT
DTSTART;TZID=America/New_York:20250602T190000
DTEND;TZID=America/New_York:20250602T210000
DTSTAMP:20260421T131923
CREATED:20250207T133528Z
LAST-MODIFIED:20250228T142952Z
UID:10000906-1748890800-1748898000@marylandbluegrass.com
SUMMARY:Liquidity Aleworks Bluegrass Jam - Mt Airy
DESCRIPTION:An open bluegrass jam at Liquidity Aleworks in Mount Airy\, MD! Hosted by Bianca Bentz and Jason Hannan. Open and encouraging to all skill levels! \n \nhttps://www.facebook.com/events/999863598428361/1122166306198089
URL:https://marylandbluegrass.com/event/liquidity-aleworks-bluegrass-jam-mt-airy/2025-06-02/
LOCATION:Liquidity Aleworks\, 8 N Main St\, Mt Airy\, MD\, 21771\, United States
CATEGORIES:Bluegrass Jams
GEO:39.3775048;-77.1542234
X-APPLE-STRUCTURED-LOCATION;VALUE=URI;X-ADDRESS=Liquidity Aleworks 8 N Main St Mt Airy MD 21771 United States;X-APPLE-RADIUS=500;X-TITLE=8 N Main St:geo:-77.1542234,39.3775048
END:VEVENT
END:VCALENDAR